
BEGIN:VCALENDAR
VERSION:2.0
PRODID:-//Dom Bosco Americana - ECPv6.15.16//NONSGML v1.0//EN
CALSCALE:GREGORIAN
METHOD:PUBLISH
X-ORIGINAL-URL:https://dombosco.br
X-WR-CALDESC:Eventos para Dom Bosco Americana
REFRESH-INTERVAL;VALUE=DURATION:PT1H
X-Robots-Tag:noindex
X-PUBLISHED-TTL:PT1H
BEGIN:VTIMEZONE
TZID:America/Sao_Paulo
BEGIN:STANDARD
TZOFFSETFROM:-0300
TZOFFSETTO:-0300
TZNAME:-03
DTSTART:20250101T000000
END:STANDARD
END:VTIMEZONE
BEGIN:VEVENT
DTSTART;VALUE=DATE:20260601
DTEND;VALUE=DATE:20260602
DTSTAMP:20260424T231040
CREATED:20260129T191938Z
LAST-MODIFIED:20260129T191938Z
UID:12851-1780272000-1780358399@dombosco.br
SUMMARY:Pastoral / Geral - Entrega da Campanha do Agasalho
DESCRIPTION:
URL:https://dombosco.br/evento/pastoral-geral-entrega-da-campanha-do-agasalho/
END:VEVENT
BEGIN:VEVENT
DTSTART;VALUE=DATE:20260601
DTEND;VALUE=DATE:20260602
DTSTAMP:20260424T231040
CREATED:20260129T192001Z
LAST-MODIFIED:20260129T192001Z
UID:12853-1780272000-1780358399@dombosco.br
SUMMARY:MECA - Envio do Instrumento Avaliativo 3 1/S
DESCRIPTION:
URL:https://dombosco.br/evento/meca-envio-do-instrumento-avaliativo-3-1-s/
END:VEVENT
BEGIN:VEVENT
DTSTART;TZID=America/Sao_Paulo:20260604T060000
DTEND;TZID=America/Sao_Paulo:20260604T233000
DTSTAMP:20260424T231040
CREATED:20260129T192048Z
LAST-MODIFIED:20260129T192048Z
UID:12855-1780552800-1780615800@dombosco.br
SUMMARY:CORPUS CHRISTI
DESCRIPTION:
URL:https://dombosco.br/evento/corpus-christi-2/
CATEGORIES:Feriado
END:VEVENT
BEGIN:VEVENT
DTSTART;VALUE=DATE:20260605
DTEND;VALUE=DATE:20260606
DTSTAMP:20260424T231040
CREATED:20260129T192117Z
LAST-MODIFIED:20260129T194620Z
UID:12857-1780617600-1780703999@dombosco.br
SUMMARY:Recesso de Feriado
DESCRIPTION:
URL:https://dombosco.br/evento/emenda-de-feriado-2/
CATEGORIES:Sem aula
END:VEVENT
BEGIN:VEVENT
DTSTART;VALUE=DATE:20260608
DTEND;VALUE=DATE:20260609
DTSTAMP:20260424T231040
CREATED:20260129T192156Z
LAST-MODIFIED:20260129T192156Z
UID:12859-1780876800-1780963199@dombosco.br
SUMMARY:EI - Reunião de Pais - Infantil III (tarde)
DESCRIPTION:
URL:https://dombosco.br/evento/ei-reuniao-de-pais-infantil-iii-tarde/
END:VEVENT
BEGIN:VEVENT
DTSTART;VALUE=DATE:20260608
DTEND;VALUE=DATE:20260613
DTSTAMP:20260424T231040
CREATED:20260129T192233Z
LAST-MODIFIED:20260129T192233Z
UID:12861-1780876800-1781308799@dombosco.br
SUMMARY:EFAF - Avaliação Trimestral
DESCRIPTION:
URL:https://dombosco.br/evento/efaf-avaliacao-trimestral-4/
END:VEVENT
BEGIN:VEVENT
DTSTART;VALUE=DATE:20260609
DTEND;VALUE=DATE:20260610
DTSTAMP:20260424T231040
CREATED:20260129T192325Z
LAST-MODIFIED:20260129T192325Z
UID:12863-1780963200-1781049599@dombosco.br
SUMMARY:EI - Reunião de Pais - Infantil II (tarde)
DESCRIPTION:
URL:https://dombosco.br/evento/ei-reuniao-de-pais-infantil-ii-tarde/
END:VEVENT
BEGIN:VEVENT
DTSTART;VALUE=DATE:20260610
DTEND;VALUE=DATE:20260611
DTSTAMP:20260424T231040
CREATED:20260129T192350Z
LAST-MODIFIED:20260129T192350Z
UID:12865-1781049600-1781135999@dombosco.br
SUMMARY:EI - Reunião de Pais - Infantil I (tarde)
DESCRIPTION:
URL:https://dombosco.br/evento/ei-reuniao-de-pais-infantil-i-tarde/
END:VEVENT
BEGIN:VEVENT
DTSTART;VALUE=DATE:20260611
DTEND;VALUE=DATE:20260612
DTSTAMP:20260424T231040
CREATED:20260129T192438Z
LAST-MODIFIED:20260129T192438Z
UID:12867-1781136000-1781222399@dombosco.br
SUMMARY:EI - Reunião de Pais - Maternal I e II (tarde)
DESCRIPTION:
URL:https://dombosco.br/evento/ei-reuniao-de-pais-maternal-i-e-ii-tarde/
END:VEVENT
BEGIN:VEVENT
DTSTART;VALUE=DATE:20260611
DTEND;VALUE=DATE:20260613
DTSTAMP:20260424T231040
CREATED:20260129T192513Z
LAST-MODIFIED:20260129T192513Z
UID:12869-1781136000-1781308799@dombosco.br
SUMMARY:EFAI - Avaliação Trimestral
DESCRIPTION:
URL:https://dombosco.br/evento/efai-avaliacao-trimestral-3/
END:VEVENT
BEGIN:VEVENT
DTSTART;TZID=America/Sao_Paulo:20260613T060000
DTEND;TZID=America/Sao_Paulo:20260613T233000
DTSTAMP:20260424T231040
CREATED:20260129T192628Z
LAST-MODIFIED:20260129T192628Z
UID:12871-1781330400-1781393400@dombosco.br
SUMMARY:DIA DE SANTO ANTONIO Padroeiro de Americana - SP
DESCRIPTION:
URL:https://dombosco.br/evento/dia-de-santo-antonio-padroeiro-de-americana-sp/
END:VEVENT
BEGIN:VEVENT
DTSTART;VALUE=DATE:20260615
DTEND;VALUE=DATE:20260616
DTSTAMP:20260424T231040
CREATED:20260129T192907Z
LAST-MODIFIED:20260129T192907Z
UID:12875-1781481600-1781567999@dombosco.br
SUMMARY:EM - Simulado SAS ENEM 2ª dia (do 1º ao 3º ano)
DESCRIPTION:
URL:https://dombosco.br/evento/em-simulado-sas-enem-2a-dia-do-1o-ao-3o-ano/
END:VEVENT
BEGIN:VEVENT
DTSTART;VALUE=DATE:20260615
DTEND;VALUE=DATE:20260618
DTSTAMP:20260424T231040
CREATED:20260129T192719Z
LAST-MODIFIED:20260129T192719Z
UID:12873-1781481600-1781740799@dombosco.br
SUMMARY:EFAI - Avaliação Trimestral
DESCRIPTION:
URL:https://dombosco.br/evento/efai-avaliacao-trimestral-4/
END:VEVENT
BEGIN:VEVENT
DTSTART;VALUE=DATE:20260615
DTEND;VALUE=DATE:20260620
DTSTAMP:20260424T231040
CREATED:20260129T192957Z
LAST-MODIFIED:20260129T193011Z
UID:12877-1781481600-1781913599@dombosco.br
SUMMARY:MECA - Instrumento Avaliativo 3 1/S
DESCRIPTION:
URL:https://dombosco.br/evento/meca-instrumento-avaliativo-3-1-s/
END:VEVENT
BEGIN:VEVENT
DTSTART;VALUE=DATE:20260616
DTEND;VALUE=DATE:20260617
DTSTAMP:20260424T231040
CREATED:20260129T193047Z
LAST-MODIFIED:20260129T193047Z
UID:12879-1781568000-1781654399@dombosco.br
SUMMARY:EXTRA - Exame de Faixa - Karatê
DESCRIPTION:
URL:https://dombosco.br/evento/extra-exame-de-faixa-karate/
END:VEVENT
BEGIN:VEVENT
DTSTART;VALUE=DATE:20260618
DTEND;VALUE=DATE:20260619
DTSTAMP:20260424T231040
CREATED:20260129T193108Z
LAST-MODIFIED:20260129T193108Z
UID:12881-1781740800-1781827199@dombosco.br
SUMMARY:Pastoral - Adoração ao Santíssimo
DESCRIPTION:
URL:https://dombosco.br/evento/pastoral-adoracao-ao-santissimo-5/
END:VEVENT
BEGIN:VEVENT
DTSTART;VALUE=DATE:20260619
DTEND;VALUE=DATE:20260620
DTSTAMP:20260424T231040
CREATED:20260129T193155Z
LAST-MODIFIED:20260129T193155Z
UID:12883-1781827200-1781913599@dombosco.br
SUMMARY:EI e EM - com aula
DESCRIPTION:
URL:https://dombosco.br/evento/ei-e-em-com-aula/
END:VEVENT
BEGIN:VEVENT
DTSTART;VALUE=DATE:20260619
DTEND;VALUE=DATE:20260620
DTSTAMP:20260424T231040
CREATED:20260129T193231Z
LAST-MODIFIED:20260129T193231Z
UID:12885-1781827200-1781913599@dombosco.br
SUMMARY:EFAI e EFAF - sem aula
DESCRIPTION:
URL:https://dombosco.br/evento/efai-e-efaf-sem-aula/
END:VEVENT
BEGIN:VEVENT
DTSTART;VALUE=DATE:20260619
DTEND;VALUE=DATE:20260620
DTSTAMP:20260424T231040
CREATED:20260129T193324Z
LAST-MODIFIED:20260129T193324Z
UID:12887-1781827200-1781913599@dombosco.br
SUMMARY:EM - Simulado UNICAMP 1ª fase (1º ao 3º ano)
DESCRIPTION:
URL:https://dombosco.br/evento/em-simulado-unicamp-1a-fase-1o-ao-3o-ano/
END:VEVENT
BEGIN:VEVENT
DTSTART;VALUE=DATE:20260619
DTEND;VALUE=DATE:20260620
DTSTAMP:20260424T231040
CREATED:20260129T193351Z
LAST-MODIFIED:20260129T193351Z
UID:12889-1781827200-1781913599@dombosco.br
SUMMARY:EM - Ensaio Geral da Festa Junina
DESCRIPTION:
URL:https://dombosco.br/evento/em-ensaio-geral-da-festa-junina/
END:VEVENT
BEGIN:VEVENT
DTSTART;TZID=America/Sao_Paulo:20260620T080000
DTEND;TZID=America/Sao_Paulo:20260620T200000
DTSTAMP:20260424T231040
CREATED:20260129T193423Z
LAST-MODIFIED:20260129T193423Z
UID:12891-1781942400-1781985600@dombosco.br
SUMMARY:FESTA JUNINA
DESCRIPTION:
URL:https://dombosco.br/evento/festa-junina-2/
END:VEVENT
BEGIN:VEVENT
DTSTART;VALUE=DATE:20260622
DTEND;VALUE=DATE:20260626
DTSTAMP:20260424T231040
CREATED:20260129T193637Z
LAST-MODIFIED:20260129T193637Z
UID:12895-1782086400-1782431999@dombosco.br
SUMMARY:EFAI - Avaliação Trimestral
DESCRIPTION:
URL:https://dombosco.br/evento/efai-avaliacao-trimestral-5/
END:VEVENT
BEGIN:VEVENT
DTSTART;VALUE=DATE:20260622
DTEND;VALUE=DATE:20260627
DTSTAMP:20260424T231040
CREATED:20260129T193715Z
LAST-MODIFIED:20260129T193715Z
UID:12897-1782086400-1782518399@dombosco.br
SUMMARY:EM - Prova Dissertativa
DESCRIPTION:
URL:https://dombosco.br/evento/em-prova-dissertativa-2/
END:VEVENT
BEGIN:VEVENT
DTSTART;VALUE=DATE:20260623
DTEND;VALUE=DATE:20260624
DTSTAMP:20260424T231040
CREATED:20260129T193739Z
LAST-MODIFIED:20260129T193739Z
UID:12899-1782172800-1782259199@dombosco.br
SUMMARY:EFAF - 2ª Chamada Avaliação Trimestral
DESCRIPTION:
URL:https://dombosco.br/evento/efaf-2a-chamada-avaliacao-trimestral-2/
END:VEVENT
BEGIN:VEVENT
DTSTART;VALUE=DATE:20260623
DTEND;VALUE=DATE:20260624
DTSTAMP:20260424T231040
CREATED:20260129T193818Z
LAST-MODIFIED:20260129T193818Z
UID:12901-1782172800-1782259199@dombosco.br
SUMMARY:MECA - 2ª Chamada Instr. Avaliativo 3 1/S
DESCRIPTION:
URL:https://dombosco.br/evento/meca-2a-chamada-instr-avaliativo-3-1-s/
END:VEVENT
BEGIN:VEVENT
DTSTART;VALUE=DATE:20260623
DTEND;VALUE=DATE:20260624
DTSTAMP:20260424T231040
CREATED:20260129T193837Z
LAST-MODIFIED:20260129T193837Z
UID:12903-1782172800-1782259199@dombosco.br
SUMMARY:EXTRA - Solenidade - Troca de Faixa - Karatê com AGRA
DESCRIPTION:
URL:https://dombosco.br/evento/extra-solenidade-troca-de-faixa-karate-com-agra/
END:VEVENT
BEGIN:VEVENT
DTSTART;VALUE=DATE:20260624
DTEND;VALUE=DATE:20260625
DTSTAMP:20260424T231040
CREATED:20260129T193902Z
LAST-MODIFIED:20260129T193902Z
UID:12905-1782259200-1782345599@dombosco.br
SUMMARY:EFAI - Integração: Reunião com os Pais do Infantil III
DESCRIPTION:
URL:https://dombosco.br/evento/efai-integracao-reuniao-com-os-pais-do-infantil-iii/
END:VEVENT
BEGIN:VEVENT
DTSTART;VALUE=DATE:20260624
DTEND;VALUE=DATE:20260627
DTSTAMP:20260424T231040
CREATED:20260129T193927Z
LAST-MODIFIED:20260129T193927Z
UID:12907-1782259200-1782518399@dombosco.br
SUMMARY:MECA - Recuperação do Instrumento Avaliativo 3 1/S
DESCRIPTION:
URL:https://dombosco.br/evento/meca-recuperacao-do-instrumento-avaliativo-3-1-s/
END:VEVENT
BEGIN:VEVENT
DTSTART;VALUE=DATE:20260629
DTEND;VALUE=DATE:20260630
DTSTAMP:20260424T231040
CREATED:20260129T194013Z
LAST-MODIFIED:20260129T194013Z
UID:12909-1782691200-1782777599@dombosco.br
SUMMARY:MECA - Recuperação do Instrumento Avaliativo 3 1/S
DESCRIPTION:
URL:https://dombosco.br/evento/meca-recuperacao-do-instrumento-avaliativo-3-1-s-2/
END:VEVENT
BEGIN:VEVENT
DTSTART;VALUE=DATE:20260630
DTEND;VALUE=DATE:20260701
DTSTAMP:20260424T231040
CREATED:20260129T194035Z
LAST-MODIFIED:20260129T194035Z
UID:12911-1782777600-1782863999@dombosco.br
SUMMARY:EFAI - Avaliação de Segunda Chamada
DESCRIPTION:
URL:https://dombosco.br/evento/efai-avaliacao-de-segunda-chamada-2/
END:VEVENT
END:VCALENDAR