
BEGIN:VCALENDAR
VERSION:2.0
PRODID:-//Dom Bosco Americana - ECPv6.15.16//NONSGML v1.0//EN
CALSCALE:GREGORIAN
METHOD:PUBLISH
X-WR-CALNAME:Dom Bosco Americana
X-ORIGINAL-URL:https://dombosco.br
X-WR-CALDESC:Eventos para Dom Bosco Americana
REFRESH-INTERVAL;VALUE=DURATION:PT1H
X-Robots-Tag:noindex
X-PUBLISHED-TTL:PT1H
BEGIN:VTIMEZONE
TZID:America/Sao_Paulo
BEGIN:STANDARD
TZOFFSETFROM:-0300
TZOFFSETTO:-0300
TZNAME:-03
DTSTART:20250101T000000
END:STANDARD
END:VTIMEZONE
BEGIN:VEVENT
DTSTART;VALUE=DATE:20260501
DTEND;VALUE=DATE:20260502
DTSTAMP:20260424T214537
CREATED:20260127T195514Z
LAST-MODIFIED:20260127T195514Z
UID:12735-1777593600-1777679999@dombosco.br
SUMMARY:DIA DO TRABALHO
DESCRIPTION:
URL:https://dombosco.br/evento/dia-do-trabalho-2/
CATEGORIES:Feriado
END:VEVENT
BEGIN:VEVENT
DTSTART;VALUE=DATE:20260504
DTEND;VALUE=DATE:20260505
DTSTAMP:20260424T214537
CREATED:20260129T182541Z
LAST-MODIFIED:20260129T182541Z
UID:12756-1777852800-1777939199@dombosco.br
SUMMARY:EI - Reunião Pedagógica com Homenagem às Mães (alunos da tarde)
DESCRIPTION:
URL:https://dombosco.br/evento/ei-reuniao-pedagogica-com-homenagem-as-maes-alunos-da-tarde/
END:VEVENT
BEGIN:VEVENT
DTSTART;VALUE=DATE:20260504
DTEND;VALUE=DATE:20260505
DTSTAMP:20260424T214537
CREATED:20260129T182604Z
LAST-MODIFIED:20260129T182604Z
UID:12758-1777852800-1777939199@dombosco.br
SUMMARY:EFAI - Recuperação do Trimestre
DESCRIPTION:
URL:https://dombosco.br/evento/efai-recuperacao-do-trimestre/
END:VEVENT
BEGIN:VEVENT
DTSTART;VALUE=DATE:20260504
DTEND;VALUE=DATE:20260505
DTSTAMP:20260424T214537
CREATED:20260129T182628Z
LAST-MODIFIED:20260129T182628Z
UID:12760-1777852800-1777939199@dombosco.br
SUMMARY:EFAF - Reunião de Pais - 1º Trimestre (sem aulas) / Recuperação Paralela
DESCRIPTION:
URL:https://dombosco.br/evento/efaf-reuniao-de-pais-1o-trimestre-sem-aulas-recuperacao-paralela/
END:VEVENT
BEGIN:VEVENT
DTSTART;VALUE=DATE:20260504
DTEND;VALUE=DATE:20260505
DTSTAMP:20260424T214537
CREATED:20260129T182713Z
LAST-MODIFIED:20260129T182713Z
UID:12762-1777852800-1777939199@dombosco.br
SUMMARY:EM - Simulado FUVEST 2ª fase no período da tarde (1º ao 3º ano)
DESCRIPTION:
URL:https://dombosco.br/evento/em-simulado-fuvest-2a-fase-no-periodo-da-tarde-1o-ao-3o-ano/
END:VEVENT
BEGIN:VEVENT
DTSTART;VALUE=DATE:20260504
DTEND;VALUE=DATE:20260505
DTSTAMP:20260424T214537
CREATED:20260129T182742Z
LAST-MODIFIED:20260129T182742Z
UID:12764-1777852800-1777939199@dombosco.br
SUMMARY:MECA - Instrumento Avaliativo MULTI
DESCRIPTION:
URL:https://dombosco.br/evento/meca-instrumento-avaliativo-multi/
END:VEVENT
BEGIN:VEVENT
DTSTART;VALUE=DATE:20260504
DTEND;VALUE=DATE:20260505
DTSTAMP:20260424T214537
CREATED:20260129T182806Z
LAST-MODIFIED:20260129T182806Z
UID:12766-1777852800-1777939199@dombosco.br
SUMMARY:Pastoral / Geral - Capelinha de Nossa Senhora
DESCRIPTION:
URL:https://dombosco.br/evento/pastoral-geral-capelinha-de-nossa-senhora/
END:VEVENT
BEGIN:VEVENT
DTSTART;VALUE=DATE:20260504
DTEND;VALUE=DATE:20260505
DTSTAMP:20260424T214537
CREATED:20260129T182825Z
LAST-MODIFIED:20260129T182825Z
UID:12768-1777852800-1777939199@dombosco.br
SUMMARY:Pastoral / Geral - Início da Campanha do Agasalho
DESCRIPTION:
URL:https://dombosco.br/evento/pastoral-geral-inicio-da-campanha-do-agasalho/
END:VEVENT
BEGIN:VEVENT
DTSTART;VALUE=DATE:20260505
DTEND;VALUE=DATE:20260506
DTSTAMP:20260424T214537
CREATED:20260129T182913Z
LAST-MODIFIED:20260129T182913Z
UID:12770-1777939200-1778025599@dombosco.br
SUMMARY:EI - Reunião Pedagógica com Homenagem às Mães (alunos da manhã)
DESCRIPTION:
URL:https://dombosco.br/evento/ei-reuniao-pedagogica-com-homenagem-as-maes-alunos-da-manha/
END:VEVENT
BEGIN:VEVENT
DTSTART;VALUE=DATE:20260505
DTEND;VALUE=DATE:20260506
DTSTAMP:20260424T214537
CREATED:20260129T183013Z
LAST-MODIFIED:20260129T183013Z
UID:12772-1777939200-1778025599@dombosco.br
SUMMARY:EFAI - Recuperação do Trimestre
DESCRIPTION:
URL:https://dombosco.br/evento/efai-recuperacao-do-trimestre-2/
END:VEVENT
BEGIN:VEVENT
DTSTART;VALUE=DATE:20260505
DTEND;VALUE=DATE:20260506
DTSTAMP:20260424T214537
CREATED:20260129T183044Z
LAST-MODIFIED:20260129T183044Z
UID:12774-1777939200-1778025599@dombosco.br
SUMMARY:EFAF - Recuperação Paralela
DESCRIPTION:
URL:https://dombosco.br/evento/efaf-recuperacao-paralela/
END:VEVENT
BEGIN:VEVENT
DTSTART;VALUE=DATE:20260505
DTEND;VALUE=DATE:20260506
DTSTAMP:20260424T214537
CREATED:20260129T183114Z
LAST-MODIFIED:20260129T183114Z
UID:12776-1777939200-1778025599@dombosco.br
SUMMARY:EM - Recuperação 1º Trimestre
DESCRIPTION:
URL:https://dombosco.br/evento/em-recuperacao-1o-trimestre-2/
END:VEVENT
BEGIN:VEVENT
DTSTART;VALUE=DATE:20260505
DTEND;VALUE=DATE:20260506
DTSTAMP:20260424T214537
CREATED:20260129T183144Z
LAST-MODIFIED:20260129T183144Z
UID:12778-1777939200-1778025599@dombosco.br
SUMMARY:MECA - Instrumento Avaliativo MULTI
DESCRIPTION:
URL:https://dombosco.br/evento/meca-instrumento-avaliativo-multi-2/
END:VEVENT
BEGIN:VEVENT
DTSTART;VALUE=DATE:20260507
DTEND;VALUE=DATE:20260508
DTSTAMP:20260424T214537
CREATED:20260129T183442Z
LAST-MODIFIED:20260129T183442Z
UID:12786-1778112000-1778198399@dombosco.br
SUMMARY:Pastoral / EM - Missa em Homenagem às Mães
DESCRIPTION:
URL:https://dombosco.br/evento/pastoral-em-missa-em-homenagem-as-maes/
CATEGORIES:Missa
END:VEVENT
BEGIN:VEVENT
DTSTART;VALUE=DATE:20260507
DTEND;VALUE=DATE:20260509
DTSTAMP:20260424T214537
CREATED:20260129T183243Z
LAST-MODIFIED:20260129T183243Z
UID:12780-1778112000-1778284799@dombosco.br
SUMMARY:EFAI - Recuperação do Trimestre
DESCRIPTION:
URL:https://dombosco.br/evento/efai-recuperacao-do-trimestre-3/
END:VEVENT
BEGIN:VEVENT
DTSTART;VALUE=DATE:20260507
DTEND;VALUE=DATE:20260509
DTSTAMP:20260424T214537
CREATED:20260129T183341Z
LAST-MODIFIED:20260129T183341Z
UID:12782-1778112000-1778284799@dombosco.br
SUMMARY:EFAF - Recuperação Paralela / Olimpíada SAS
DESCRIPTION:
URL:https://dombosco.br/evento/efaf-recuperacao-paralela-olimpiada-sas/
END:VEVENT
BEGIN:VEVENT
DTSTART;VALUE=DATE:20260507
DTEND;VALUE=DATE:20260509
DTSTAMP:20260424T214537
CREATED:20260129T183407Z
LAST-MODIFIED:20260129T183553Z
UID:12784-1778112000-1778284799@dombosco.br
SUMMARY:EM - Recuperação 1º Trimestre
DESCRIPTION:
URL:https://dombosco.br/evento/em-recuperacao-1o-trimestre-3/
END:VEVENT
BEGIN:VEVENT
DTSTART;VALUE=DATE:20260508
DTEND;VALUE=DATE:20260509
DTSTAMP:20260424T214537
CREATED:20260129T183614Z
LAST-MODIFIED:20260129T183614Z
UID:12788-1778198400-1778284799@dombosco.br
SUMMARY:Pastoral / EFAF - Missa em Homenagem às Mães
DESCRIPTION:
URL:https://dombosco.br/evento/pastoral-efaf-missa-em-homenagem-as-maes/
CATEGORIES:Missa
END:VEVENT
BEGIN:VEVENT
DTSTART;VALUE=DATE:20260509
DTEND;VALUE=DATE:20260510
DTSTAMP:20260424T214537
CREATED:20260129T183801Z
LAST-MODIFIED:20260129T183801Z
UID:12790-1778284800-1778371199@dombosco.br
SUMMARY:Atividades Mães e Filhos(as)
DESCRIPTION:
URL:https://dombosco.br/evento/atividades-maes-e-filhosas/
END:VEVENT
BEGIN:VEVENT
DTSTART;VALUE=DATE:20260509
DTEND;VALUE=DATE:20260510
DTSTAMP:20260424T214537
CREATED:20260129T183834Z
LAST-MODIFIED:20260129T183834Z
UID:12792-1778284800-1778371199@dombosco.br
SUMMARY:Pastoral / EFAI - Missa em Homenagem às Mães
DESCRIPTION:
URL:https://dombosco.br/evento/pastoral-efai-missa-em-homenagem-as-maes/
CATEGORIES:Missa
END:VEVENT
BEGIN:VEVENT
DTSTART;VALUE=DATE:20260509
DTEND;VALUE=DATE:20260510
DTSTAMP:20260424T214537
CREATED:20260129T183912Z
LAST-MODIFIED:20260129T183912Z
UID:12794-1778284800-1778371199@dombosco.br
SUMMARY:EM - Simulado Olimpíadas de Conhecimento SAS (somente 1ºs e 2ºs anos) on-line
DESCRIPTION:
URL:https://dombosco.br/evento/em-simulado-olimpiadas-de-conhecimento-sas-somente-1os-e-2os-anos-on-line/
END:VEVENT
BEGIN:VEVENT
DTSTART;VALUE=DATE:20260509
DTEND;VALUE=DATE:20260510
DTSTAMP:20260424T214537
CREATED:20260129T183947Z
LAST-MODIFIED:20260129T183947Z
UID:12796-1778284800-1778371199@dombosco.br
SUMMARY:EM - Simulado SAS ENEM 1º dia (somente 3ºs anos)
DESCRIPTION:
URL:https://dombosco.br/evento/em-simulado-sas-enem-1o-dia-somente-3os-anos/
CATEGORIES:Missa
END:VEVENT
BEGIN:VEVENT
DTSTART;TZID=America/Sao_Paulo:20260510T060000
DTEND;TZID=America/Sao_Paulo:20260510T233000
DTSTAMP:20260424T214537
CREATED:20260129T184029Z
LAST-MODIFIED:20260129T184029Z
UID:12798-1778392800-1778455800@dombosco.br
SUMMARY:DIA DAS MÃES
DESCRIPTION:
URL:https://dombosco.br/evento/dia-das-maes-2/
END:VEVENT
BEGIN:VEVENT
DTSTART;VALUE=DATE:20260511
DTEND;VALUE=DATE:20260512
DTSTAMP:20260424T214537
CREATED:20260129T184415Z
LAST-MODIFIED:20260129T184415Z
UID:12805-1778457600-1778543999@dombosco.br
SUMMARY:EM - Recuperação 1º Trimestre
DESCRIPTION:
URL:https://dombosco.br/evento/em-recuperacao-1o-trimestre-4/
END:VEVENT
BEGIN:VEVENT
DTSTART;VALUE=DATE:20260511
DTEND;VALUE=DATE:20260516
DTSTAMP:20260424T214538
CREATED:20260129T184309Z
LAST-MODIFIED:20260129T184309Z
UID:12801-1778457600-1778889599@dombosco.br
SUMMARY:EFAI - Recuperação do Trimestre
DESCRIPTION:
URL:https://dombosco.br/evento/efai-recuperacao-do-trimestre-4/
END:VEVENT
BEGIN:VEVENT
DTSTART;VALUE=DATE:20260511
DTEND;VALUE=DATE:20260516
DTSTAMP:20260424T214538
CREATED:20260129T184344Z
LAST-MODIFIED:20260129T184344Z
UID:12803-1778457600-1778889599@dombosco.br
SUMMARY:EFAF - Recuperação Paralela
DESCRIPTION:
URL:https://dombosco.br/evento/efaf-recuperacao-paralela-2/
END:VEVENT
BEGIN:VEVENT
DTSTART;VALUE=DATE:20260512
DTEND;VALUE=DATE:20260514
DTSTAMP:20260424T214538
CREATED:20260129T184446Z
LAST-MODIFIED:20260129T184446Z
UID:12807-1778544000-1778716799@dombosco.br
SUMMARY:MECA - 2ª Chamada do Instrumento Avaliativo da MULTI
DESCRIPTION:
URL:https://dombosco.br/evento/meca-2a-chamada-do-instrumento-avaliativo-da-multi/
END:VEVENT
BEGIN:VEVENT
DTSTART;VALUE=DATE:20260514
DTEND;VALUE=DATE:20260515
DTSTAMP:20260424T214538
CREATED:20260129T184521Z
LAST-MODIFIED:20260129T184521Z
UID:12809-1778716800-1778803199@dombosco.br
SUMMARY:EM - 2ª Chamada Recuperação 1º Trimestre
DESCRIPTION:
URL:https://dombosco.br/evento/em-2a-chamada-recuperacao-1o-trimestre/
END:VEVENT
BEGIN:VEVENT
DTSTART;VALUE=DATE:20260516
DTEND;VALUE=DATE:20260517
DTSTAMP:20260424T214538
CREATED:20260129T184653Z
LAST-MODIFIED:20260129T184653Z
UID:12811-1778889600-1778975999@dombosco.br
SUMMARY:EM - Simulado SAS ENEM 2ª dia (somente 3ºs anos)
DESCRIPTION:
URL:https://dombosco.br/evento/em-simulado-sas-enem-2a-dia-somente-3os-anos/
END:VEVENT
BEGIN:VEVENT
DTSTART;VALUE=DATE:20260518
DTEND;VALUE=DATE:20260523
DTSTAMP:20260424T214538
CREATED:20260129T184744Z
LAST-MODIFIED:20260129T184744Z
UID:12813-1779062400-1779494399@dombosco.br
SUMMARY:MECA - Recuperação Contínua do Instrumento Avaliativo da MULTI
DESCRIPTION:
URL:https://dombosco.br/evento/meca-recuperacao-continua-do-instrumento-avaliativo-da-multi/
END:VEVENT
END:VCALENDAR