
BEGIN:VCALENDAR
VERSION:2.0
PRODID:-//Dom Bosco Americana - ECPv6.15.16//NONSGML v1.0//EN
CALSCALE:GREGORIAN
METHOD:PUBLISH
X-WR-CALNAME:Dom Bosco Americana
X-ORIGINAL-URL:https://dombosco.br
X-WR-CALDESC:Eventos para Dom Bosco Americana
REFRESH-INTERVAL;VALUE=DURATION:PT1H
X-Robots-Tag:noindex
X-PUBLISHED-TTL:PT1H
BEGIN:VTIMEZONE
TZID:America/Sao_Paulo
BEGIN:STANDARD
TZOFFSETFROM:-0300
TZOFFSETTO:-0300
TZNAME:-03
DTSTART:20250101T000000
END:STANDARD
END:VTIMEZONE
BEGIN:VEVENT
DTSTART;VALUE=DATE:20260202
DTEND;VALUE=DATE:20260207
DTSTAMP:20260424T231424
CREATED:20260127T190218Z
LAST-MODIFIED:20260127T190218Z
UID:12540-1769990400-1770422399@dombosco.br
SUMMARY:EFAI - Avaliação Diagnóstica
DESCRIPTION:Ensino Fundamental Anos Iniciais
URL:https://dombosco.br/evento/efai-avaliacao-diagnostica/
END:VEVENT
BEGIN:VEVENT
DTSTART;VALUE=DATE:20260202
DTEND;VALUE=DATE:20260207
DTSTAMP:20260424T231424
CREATED:20260127T190259Z
LAST-MODIFIED:20260127T190321Z
UID:12542-1769990400-1770422399@dombosco.br
SUMMARY:MECA - Revisão de Matemática 1º ano
DESCRIPTION:
URL:https://dombosco.br/evento/meca-revisao-de-matematica-1o-ano/
END:VEVENT
BEGIN:VEVENT
DTSTART;VALUE=DATE:20260203
DTEND;VALUE=DATE:20260204
DTSTAMP:20260424T231424
CREATED:20260127T190400Z
LAST-MODIFIED:20260127T190400Z
UID:12544-1770076800-1770163199@dombosco.br
SUMMARY:Pastoral - EFAF - Início dos Encontros da Sociedade da Alegria
DESCRIPTION:
URL:https://dombosco.br/evento/pastoral-efaf-inicio-dos-encontros-da-sociedade-da-alegria/
END:VEVENT
BEGIN:VEVENT
DTSTART;VALUE=DATE:20260203
DTEND;VALUE=DATE:20260204
DTSTAMP:20260424T231424
CREATED:20260127T190533Z
LAST-MODIFIED:20260127T190613Z
UID:12552-1770076800-1770163199@dombosco.br
SUMMARY:Dia de São Brás
DESCRIPTION:
URL:https://dombosco.br/evento/dia-de-sao-bras/
END:VEVENT
BEGIN:VEVENT
DTSTART;VALUE=DATE:20260204
DTEND;VALUE=DATE:20260205
DTSTAMP:20260424T231424
CREATED:20260127T190418Z
LAST-MODIFIED:20260127T190418Z
UID:12546-1770163200-1770249599@dombosco.br
SUMMARY:Pastoral - EFAF - Início dos Encontros do G.A.P.
DESCRIPTION:
URL:https://dombosco.br/evento/pastoral-efaf-inicio-dos-encontros-do-g-a-p/
END:VEVENT
BEGIN:VEVENT
DTSTART;VALUE=DATE:20260205
DTEND;VALUE=DATE:20260206
DTSTAMP:20260424T231424
CREATED:20260127T190437Z
LAST-MODIFIED:20260127T190437Z
UID:12548-1770249600-1770335999@dombosco.br
SUMMARY:Pastoral - EM - Início dos Encontros da Equipe Missionária
DESCRIPTION:
URL:https://dombosco.br/evento/pastoral-em-inicio-dos-encontros-da-equipe-missionaria/
END:VEVENT
BEGIN:VEVENT
DTSTART;VALUE=DATE:20260206
DTEND;VALUE=DATE:20260207
DTSTAMP:20260424T231424
CREATED:20260127T190055Z
LAST-MODIFIED:20260127T190632Z
UID:12550-1770336000-1770422399@dombosco.br
SUMMARY:Pastoral - Geral - Benção da Garganta
DESCRIPTION:
URL:https://dombosco.br/evento/pastoral-geral-bencao-da-garganta/
END:VEVENT
BEGIN:VEVENT
DTSTART;VALUE=DATE:20260209
DTEND;VALUE=DATE:20260210
DTSTAMP:20260424T231424
CREATED:20260127T190855Z
LAST-MODIFIED:20260127T190855Z
UID:12558-1770595200-1770681599@dombosco.br
SUMMARY:MECA - Entrega da Lista de Revisão de Matemática 1º ano
DESCRIPTION:
URL:https://dombosco.br/evento/meca-entrega-da-lista-de-revisao-de-matematica-1o-ano/
END:VEVENT
BEGIN:VEVENT
DTSTART;VALUE=DATE:20260209
DTEND;VALUE=DATE:20260214
DTSTAMP:20260424T231424
CREATED:20260127T190746Z
LAST-MODIFIED:20260127T190838Z
UID:12554-1770595200-1771027199@dombosco.br
SUMMARY:EFAF - Avaliação Diagnóstica
DESCRIPTION:
URL:https://dombosco.br/evento/efaf-avaliacao-diagnostica/
END:VEVENT
BEGIN:VEVENT
DTSTART;VALUE=DATE:20260212
DTEND;VALUE=DATE:20260213
DTSTAMP:20260424T231424
CREATED:20260127T191010Z
LAST-MODIFIED:20260127T191010Z
UID:12560-1770854400-1770940799@dombosco.br
SUMMARY:EI - Baile de Carnaval
DESCRIPTION:Educação Infantil
URL:https://dombosco.br/evento/ei-baile-de-carnaval/
END:VEVENT
BEGIN:VEVENT
DTSTART;VALUE=DATE:20260213
DTEND;VALUE=DATE:20260214
DTSTAMP:20260424T231424
CREATED:20260127T191030Z
LAST-MODIFIED:20260127T191030Z
UID:12562-1770940800-1771027199@dombosco.br
SUMMARY:EI - Folia de Carnaval
DESCRIPTION:
URL:https://dombosco.br/evento/ei-folia-de-carnaval/
END:VEVENT
BEGIN:VEVENT
DTSTART;VALUE=DATE:20260213
DTEND;VALUE=DATE:20260214
DTSTAMP:20260424T231424
CREATED:20260127T191047Z
LAST-MODIFIED:20260127T191047Z
UID:12564-1770940800-1771027199@dombosco.br
SUMMARY:EFAI - Folia de Carnaval
DESCRIPTION:
URL:https://dombosco.br/evento/efai-folia-de-carnaval/
END:VEVENT
BEGIN:VEVENT
DTSTART;VALUE=DATE:20260213
DTEND;VALUE=DATE:20260214
DTSTAMP:20260424T231424
CREATED:20260127T191113Z
LAST-MODIFIED:20260127T191113Z
UID:12566-1770940800-1771027199@dombosco.br
SUMMARY:EFAF - Intervalo de Carnaval
DESCRIPTION:
URL:https://dombosco.br/evento/efaf-intervalo-de-carnaval/
END:VEVENT
BEGIN:VEVENT
DTSTART;VALUE=DATE:20260213
DTEND;VALUE=DATE:20260214
DTSTAMP:20260424T231424
CREATED:20260127T191129Z
LAST-MODIFIED:20260127T191129Z
UID:12568-1770940800-1771027199@dombosco.br
SUMMARY:EM - Intervalo de Carnaval
DESCRIPTION:
URL:https://dombosco.br/evento/em-intervalo-de-carnaval/
END:VEVENT
BEGIN:VEVENT
DTSTART;VALUE=DATE:20260216
DTEND;VALUE=DATE:20260217
DTSTAMP:20260424T231424
CREATED:20260127T191226Z
LAST-MODIFIED:20260129T194634Z
UID:12570-1771200000-1771286399@dombosco.br
SUMMARY:Recesso (Carnaval)
DESCRIPTION:
URL:https://dombosco.br/evento/emenda-carnaval/
CATEGORIES:Sem aula
END:VEVENT
BEGIN:VEVENT
DTSTART;VALUE=DATE:20260217
DTEND;VALUE=DATE:20260218
DTSTAMP:20260424T231424
CREATED:20260127T191258Z
LAST-MODIFIED:20260127T191258Z
UID:12572-1771286400-1771372799@dombosco.br
SUMMARY:CARNAVAL
DESCRIPTION:
URL:https://dombosco.br/evento/carnaval-2/
CATEGORIES:Sem aula
END:VEVENT
BEGIN:VEVENT
DTSTART;VALUE=DATE:20260218
DTEND;VALUE=DATE:20260219
DTSTAMP:20260424T231424
CREATED:20260127T191323Z
LAST-MODIFIED:20260127T191323Z
UID:12574-1771372800-1771459199@dombosco.br
SUMMARY:Quarta-feira de Cinzas
DESCRIPTION:
URL:https://dombosco.br/evento/quarta-feira-de-cinzas/
CATEGORIES:Sem aula
END:VEVENT
BEGIN:VEVENT
DTSTART;VALUE=DATE:20260219
DTEND;VALUE=DATE:20260220
DTSTAMP:20260424T231424
CREATED:20260127T191350Z
LAST-MODIFIED:20260127T191350Z
UID:12576-1771459200-1771545599@dombosco.br
SUMMARY:Pastoral - EFAF / EM - Imposição de Cinzas
DESCRIPTION:
URL:https://dombosco.br/evento/pastoral-efaf-em-imposicao-de-cinzas/
END:VEVENT
BEGIN:VEVENT
DTSTART;VALUE=DATE:20260219
DTEND;VALUE=DATE:20260220
DTSTAMP:20260424T231424
CREATED:20260127T191412Z
LAST-MODIFIED:20260127T191412Z
UID:12578-1771459200-1771545599@dombosco.br
SUMMARY:Pastoral - Geral - Início da Campanha de Arrecadação Páscoa Solidária
DESCRIPTION:
URL:https://dombosco.br/evento/pastoral-geral-inicio-da-campanha-de-arrecadacao-pascoa-solidaria/
END:VEVENT
BEGIN:VEVENT
DTSTART;VALUE=DATE:20260220
DTEND;VALUE=DATE:20260221
DTSTAMP:20260424T231424
CREATED:20260127T191431Z
LAST-MODIFIED:20260127T191431Z
UID:12580-1771545600-1771631999@dombosco.br
SUMMARY:Pastoral - EI / EFAI - Imposição de Cinzas
DESCRIPTION:
URL:https://dombosco.br/evento/pastoral-ei-efai-imposicao-de-cinzas/
END:VEVENT
BEGIN:VEVENT
DTSTART;VALUE=DATE:20260224
DTEND;VALUE=DATE:20260225
DTSTAMP:20260424T231424
CREATED:20260127T191454Z
LAST-MODIFIED:20260127T191454Z
UID:12582-1771891200-1771977599@dombosco.br
SUMMARY:EM - Simulado Salê 1ºs e 2ºs anos
DESCRIPTION:
URL:https://dombosco.br/evento/em-simulado-sale-1os-e-2os-anos/
END:VEVENT
BEGIN:VEVENT
DTSTART;VALUE=DATE:20260226
DTEND;VALUE=DATE:20260227
DTSTAMP:20260424T231424
CREATED:20260127T191515Z
LAST-MODIFIED:20260127T191515Z
UID:12584-1772064000-1772150399@dombosco.br
SUMMARY:Pastoral - Adoração ao Santíssimo
DESCRIPTION:
URL:https://dombosco.br/evento/pastoral-adoracao-ao-santissimo-2/
END:VEVENT
BEGIN:VEVENT
DTSTART;VALUE=DATE:20260226
DTEND;VALUE=DATE:20260227
DTSTAMP:20260424T231424
CREATED:20260127T191544Z
LAST-MODIFIED:20260127T191544Z
UID:12586-1772064000-1772150399@dombosco.br
SUMMARY:Pastoral - Manhã da Turma 8º ano A
DESCRIPTION:
URL:https://dombosco.br/evento/pastoral-manha-da-turma-8o-ano-a/
END:VEVENT
BEGIN:VEVENT
DTSTART;VALUE=DATE:20260227
DTEND;VALUE=DATE:20260228
DTSTAMP:20260424T231424
CREATED:20260127T191616Z
LAST-MODIFIED:20260127T191616Z
UID:12588-1772150400-1772236799@dombosco.br
SUMMARY:EM - 2ª chamada Simulado Salê 1ºs e 2ºs anos
DESCRIPTION:
URL:https://dombosco.br/evento/em-2a-chamada-simulado-sale-1os-e-2os-anos/
END:VEVENT
END:VCALENDAR