
BEGIN:VCALENDAR
VERSION:2.0
PRODID:-//Dom Bosco Americana - ECPv6.15.16//NONSGML v1.0//EN
CALSCALE:GREGORIAN
METHOD:PUBLISH
X-ORIGINAL-URL:https://dombosco.br
X-WR-CALDESC:Eventos para Dom Bosco Americana
REFRESH-INTERVAL;VALUE=DURATION:PT1H
X-Robots-Tag:noindex
X-PUBLISHED-TTL:PT1H
BEGIN:VTIMEZONE
TZID:America/Sao_Paulo
BEGIN:STANDARD
TZOFFSETFROM:-0300
TZOFFSETTO:-0300
TZNAME:-03
DTSTART:20240101T000000
END:STANDARD
END:VTIMEZONE
BEGIN:VEVENT
DTSTART;VALUE=DATE:20251024
DTEND;VALUE=DATE:20251025
DTSTAMP:20260425T082348
CREATED:20250429T142627Z
LAST-MODIFIED:20250429T142905Z
UID:3571-1761264000-1761350399@dombosco.br
SUMMARY:EI - Preparativos para a Mostra de Projetos (sem aula)
DESCRIPTION:Educação Infantil
URL:https://dombosco.br/evento/ei-preparativos-para-mostra-de-projetos-sem-aula/
CATEGORIES:Sem aula
END:VEVENT
BEGIN:VEVENT
DTSTART;VALUE=DATE:20251024
DTEND;VALUE=DATE:20251025
DTSTAMP:20260425T082348
CREATED:20250429T142718Z
LAST-MODIFIED:20250429T142718Z
UID:3573-1761264000-1761350399@dombosco.br
SUMMARY:EFI - Montagem da Mostra de Projetos (sem aula)
DESCRIPTION:Ensino Fundamental Anos Iniciais
URL:https://dombosco.br/evento/efi-montagem-da-mostra-de-projetos-sem-aula/
CATEGORIES:Sem aula
END:VEVENT
END:VCALENDAR