
BEGIN:VCALENDAR
VERSION:2.0
PRODID:-//Dom Bosco Americana - ECPv6.15.16//NONSGML v1.0//EN
CALSCALE:GREGORIAN
METHOD:PUBLISH
X-WR-CALNAME:Dom Bosco Americana
X-ORIGINAL-URL:https://dombosco.br
X-WR-CALDESC:Eventos para Dom Bosco Americana
REFRESH-INTERVAL;VALUE=DURATION:PT1H
X-Robots-Tag:noindex
X-PUBLISHED-TTL:PT1H
BEGIN:VTIMEZONE
TZID:America/Sao_Paulo
BEGIN:STANDARD
TZOFFSETFROM:-0300
TZOFFSETTO:-0300
TZNAME:-03
DTSTART:20240101T000000
END:STANDARD
END:VTIMEZONE
BEGIN:VEVENT
DTSTART;VALUE=DATE:20250901
DTEND;VALUE=DATE:20250902
DTSTAMP:20260425T100122
CREATED:20250331T174944Z
LAST-MODIFIED:20250331T174944Z
UID:2691-1756684800-1756771199@dombosco.br
SUMMARY:EFI - Reunião de Pais e Entrega de Boletim
DESCRIPTION:Ensino Fundamental Anos Iniciais
URL:https://dombosco.br/evento/efi-reuniao-de-pais-e-entrega-de-boletim/
CATEGORIES:Reunião
END:VEVENT
BEGIN:VEVENT
DTSTART;VALUE=DATE:20250902
DTEND;VALUE=DATE:20250903
DTSTAMP:20260425T100122
CREATED:20250423T153415Z
LAST-MODIFIED:20250423T153415Z
UID:3182-1756771200-1756857599@dombosco.br
SUMMARY:EM - Reunião de Pais
DESCRIPTION:Ensino Médio \n(Sem aulas no período da tarde)
URL:https://dombosco.br/evento/em-reuniao-de-pais-4/
CATEGORIES:Reunião
END:VEVENT
BEGIN:VEVENT
DTSTART;VALUE=DATE:20250904
DTEND;VALUE=DATE:20250905
DTSTAMP:20260425T100122
CREATED:20250424T194019Z
LAST-MODIFIED:20250424T194019Z
UID:3253-1756944000-1757030399@dombosco.br
SUMMARY:EM - Reunião de Pais
DESCRIPTION:Ensino Médio \n  \nObs: Sem aulas no período da tarde.
URL:https://dombosco.br/evento/em-reuniao-de-pais-5/
CATEGORIES:Reunião
END:VEVENT
BEGIN:VEVENT
DTSTART;VALUE=DATE:20250908
DTEND;VALUE=DATE:20250909
DTSTAMP:20260425T100122
CREATED:20250424T194721Z
LAST-MODIFIED:20250424T194721Z
UID:3269-1757289600-1757375999@dombosco.br
SUMMARY:EI - Reunião de Pais - Infantil III
DESCRIPTION:Educação Infantil
URL:https://dombosco.br/evento/ei-reuniao-de-pais-infantil-iii-2/
CATEGORIES:Reunião
END:VEVENT
BEGIN:VEVENT
DTSTART;VALUE=DATE:20250909
DTEND;VALUE=DATE:20250910
DTSTAMP:20260425T100122
CREATED:20250424T194934Z
LAST-MODIFIED:20250424T194934Z
UID:3277-1757376000-1757462399@dombosco.br
SUMMARY:EI - Reunião de Pais - Infantil II
DESCRIPTION:Educação Infantil
URL:https://dombosco.br/evento/ei-reuniao-de-pais-infantil-ii-2/
CATEGORIES:Reunião
END:VEVENT
BEGIN:VEVENT
DTSTART;VALUE=DATE:20250910
DTEND;VALUE=DATE:20250911
DTSTAMP:20260425T100122
CREATED:20250424T195138Z
LAST-MODIFIED:20250424T195138Z
UID:3283-1757462400-1757548799@dombosco.br
SUMMARY:EI - Reunião de Pais - Infantil I
DESCRIPTION:Educação Infantil
URL:https://dombosco.br/evento/ei-reuniao-de-pais-infantil-i-2/
CATEGORIES:Reunião
END:VEVENT
BEGIN:VEVENT
DTSTART;VALUE=DATE:20250911
DTEND;VALUE=DATE:20250912
DTSTAMP:20260425T100122
CREATED:20250424T195237Z
LAST-MODIFIED:20250424T195237Z
UID:3287-1757548800-1757635199@dombosco.br
SUMMARY:EI - Reunião de Pais - Maternal II
DESCRIPTION:Educação Infantil
URL:https://dombosco.br/evento/ei-reuniao-de-pais-maternal-ii-5/
CATEGORIES:Reunião
END:VEVENT
BEGIN:VEVENT
DTSTART;VALUE=DATE:20250911
DTEND;VALUE=DATE:20250912
DTSTAMP:20260425T100122
CREATED:20250424T195305Z
LAST-MODIFIED:20250424T195305Z
UID:3289-1757548800-1757635199@dombosco.br
SUMMARY:EFI – Recuperação – 2º Trimestre
DESCRIPTION:Ensino Fundamental Anos Iniciais
URL:https://dombosco.br/evento/efi-recuperacao-2o-trimestre-8/
CATEGORIES:Reunião
END:VEVENT
BEGIN:VEVENT
DTSTART;VALUE=DATE:20250912
DTEND;VALUE=DATE:20250913
DTSTAMP:20260425T100122
CREATED:20250429T121443Z
LAST-MODIFIED:20250429T121443Z
UID:3431-1757635200-1757721599@dombosco.br
SUMMARY:EI - Reunião de Pais - Maternal II
DESCRIPTION:Educação Infantil
URL:https://dombosco.br/evento/ei-reuniao-de-pais-maternal-ii-6/
CATEGORIES:Reunião
END:VEVENT
BEGIN:VEVENT
DTSTART;VALUE=DATE:20250915
DTEND;VALUE=DATE:20250916
DTSTAMP:20260425T100122
CREATED:20250429T124051Z
LAST-MODIFIED:20250429T124051Z
UID:3458-1757894400-1757980799@dombosco.br
SUMMARY:EI - Reunião de Pais - Maternal II
DESCRIPTION:Educação Infantil
URL:https://dombosco.br/evento/ei-reuniao-de-pais-maternal-ii-7/
CATEGORIES:Reunião
END:VEVENT
BEGIN:VEVENT
DTSTART;VALUE=DATE:20250916
DTEND;VALUE=DATE:20250917
DTSTAMP:20260425T100122
CREATED:20250429T124329Z
LAST-MODIFIED:20250429T124329Z
UID:3466-1757980800-1758067199@dombosco.br
SUMMARY:EI - Reunião de Pais - Maternal II
DESCRIPTION:Educação Infantil
URL:https://dombosco.br/evento/ei-reuniao-de-pais-maternal-ii-8/
CATEGORIES:Reunião
END:VEVENT
BEGIN:VEVENT
DTSTART;VALUE=DATE:20250922
DTEND;VALUE=DATE:20250923
DTSTAMP:20260425T100122
CREATED:20250429T125042Z
LAST-MODIFIED:20250429T125042Z
UID:3491-1758499200-1758585599@dombosco.br
SUMMARY:EI - Reunião de Pais - Maternal I
DESCRIPTION:Educação Infantil
URL:https://dombosco.br/evento/ei-reuniao-de-pais-maternal-i-2/
CATEGORIES:Reunião
END:VEVENT
END:VCALENDAR