
BEGIN:VCALENDAR
VERSION:2.0
PRODID:-//Dom Bosco Americana - ECPv6.15.16//NONSGML v1.0//EN
CALSCALE:GREGORIAN
METHOD:PUBLISH
X-WR-CALNAME:Dom Bosco Americana
X-ORIGINAL-URL:https://dombosco.br
X-WR-CALDESC:Eventos para Dom Bosco Americana
REFRESH-INTERVAL;VALUE=DURATION:PT1H
X-Robots-Tag:noindex
X-PUBLISHED-TTL:PT1H
BEGIN:VTIMEZONE
TZID:America/Sao_Paulo
BEGIN:STANDARD
TZOFFSETFROM:-0300
TZOFFSETTO:-0300
TZNAME:-03
DTSTART:20240101T000000
END:STANDARD
END:VTIMEZONE
BEGIN:VEVENT
DTSTART;VALUE=DATE:20250505
DTEND;VALUE=DATE:20250506
DTSTAMP:20260425T153956
CREATED:20250326T194400Z
LAST-MODIFIED:20250326T194400Z
UID:2309-1746403200-1746489599@dombosco.br
SUMMARY:EFI - Reunião de Pais
DESCRIPTION:Ensino Fundamental Anos Iniciais
URL:https://dombosco.br/evento/efi-reuniao-de-pais/
CATEGORIES:Reunião
END:VEVENT
BEGIN:VEVENT
DTSTART;VALUE=DATE:20250506
DTEND;VALUE=DATE:20250507
DTSTAMP:20260425T153956
CREATED:20250326T194657Z
LAST-MODIFIED:20250326T194657Z
UID:2315-1746489600-1746575999@dombosco.br
SUMMARY:EI - Reunião de Pais - Infantil III
DESCRIPTION:Educação Infantil
URL:https://dombosco.br/evento/ei-reuniao-de-pais-infantil-iii/
CATEGORIES:Reunião
END:VEVENT
BEGIN:VEVENT
DTSTART;VALUE=DATE:20250507
DTEND;VALUE=DATE:20250508
DTSTAMP:20260425T153956
CREATED:20250326T194740Z
LAST-MODIFIED:20250326T194740Z
UID:2317-1746576000-1746662399@dombosco.br
SUMMARY:EI - Reunião de Pais - Infantil II
DESCRIPTION:Educação Infantil
URL:https://dombosco.br/evento/ei-reuniao-de-pais-infantil-ii/
CATEGORIES:Reunião
END:VEVENT
BEGIN:VEVENT
DTSTART;VALUE=DATE:20250507
DTEND;VALUE=DATE:20250508
DTSTAMP:20260425T153956
CREATED:20250326T194823Z
LAST-MODIFIED:20250326T194823Z
UID:2319-1746576000-1746662399@dombosco.br
SUMMARY:EFII - Reunião de Pais
DESCRIPTION:Ensino Fundamental Anos Finais
URL:https://dombosco.br/evento/efii-reuniao-de-pais/
CATEGORIES:Reunião
END:VEVENT
BEGIN:VEVENT
DTSTART;VALUE=DATE:20250508
DTEND;VALUE=DATE:20250509
DTSTAMP:20260425T153956
CREATED:20250326T194852Z
LAST-MODIFIED:20250326T194852Z
UID:2321-1746662400-1746748799@dombosco.br
SUMMARY:EI - Reunião de Pais - Infantil I
DESCRIPTION:Educação Infantil
URL:https://dombosco.br/evento/ei-reuniao-de-pais-infantil-i/
CATEGORIES:Reunião
END:VEVENT
BEGIN:VEVENT
DTSTART;VALUE=DATE:20250508
DTEND;VALUE=DATE:20250509
DTSTAMP:20260425T153956
CREATED:20250326T195322Z
LAST-MODIFIED:20250326T195322Z
UID:2331-1746662400-1746748799@dombosco.br
SUMMARY:EM - Reunião de Pais
DESCRIPTION:Ensino Médio – Sem aulas no período da tarde.
URL:https://dombosco.br/evento/em-reuniao-de-pais-2/
CATEGORIES:Reunião
END:VEVENT
BEGIN:VEVENT
DTSTART;VALUE=DATE:20250512
DTEND;VALUE=DATE:20250513
DTSTAMP:20260425T153956
CREATED:20250326T195657Z
LAST-MODIFIED:20250326T195657Z
UID:2343-1747008000-1747094399@dombosco.br
SUMMARY:EI - Reunião de Pais - Maternal II
DESCRIPTION:Educação Infantil
URL:https://dombosco.br/evento/ei-reuniao-de-pais-maternal-ii/
CATEGORIES:Reunião
END:VEVENT
BEGIN:VEVENT
DTSTART;VALUE=DATE:20250513
DTEND;VALUE=DATE:20250514
DTSTAMP:20260425T153956
CREATED:20250326T195724Z
LAST-MODIFIED:20250326T195724Z
UID:2345-1747094400-1747180799@dombosco.br
SUMMARY:EI - Reunião de Pais - Maternal II
DESCRIPTION:
URL:https://dombosco.br/evento/ei-reuniao-de-pais-maternal-ii-2/
CATEGORIES:Reunião
END:VEVENT
BEGIN:VEVENT
DTSTART;VALUE=DATE:20250514
DTEND;VALUE=DATE:20250515
DTSTAMP:20260425T153956
CREATED:20250327T111706Z
LAST-MODIFIED:20250327T111706Z
UID:2351-1747180800-1747267199@dombosco.br
SUMMARY:EI - Reunião de Pais - Maternal II
DESCRIPTION:Educação Infantil
URL:https://dombosco.br/evento/ei-reuniao-de-pais-maternal-ii-3/
CATEGORIES:Reunião
END:VEVENT
BEGIN:VEVENT
DTSTART;VALUE=DATE:20250515
DTEND;VALUE=DATE:20250516
DTSTAMP:20260425T153956
CREATED:20250327T123950Z
LAST-MODIFIED:20250327T123950Z
UID:2371-1747267200-1747353599@dombosco.br
SUMMARY:EI - Reunião de Pais - Maternal II
DESCRIPTION:Educação Infantil
URL:https://dombosco.br/evento/ei-reuniao-de-pais-maternal-ii-4/
CATEGORIES:Reunião
END:VEVENT
BEGIN:VEVENT
DTSTART;VALUE=DATE:20250519
DTEND;VALUE=DATE:20250520
DTSTAMP:20260425T153956
CREATED:20250327T125121Z
LAST-MODIFIED:20250327T125121Z
UID:2399-1747612800-1747699199@dombosco.br
SUMMARY:EI - Reunião de Pais - Maternal I
DESCRIPTION:Educação Infantil
URL:https://dombosco.br/evento/ei-reuniao-de-pais-maternal-i/
CATEGORIES:Reunião
END:VEVENT
END:VCALENDAR