
BEGIN:VCALENDAR
VERSION:2.0
PRODID:-//Dom Bosco Americana - ECPv6.15.16//NONSGML v1.0//EN
CALSCALE:GREGORIAN
METHOD:PUBLISH
X-ORIGINAL-URL:https://dombosco.br
X-WR-CALDESC:Eventos para Dom Bosco Americana
REFRESH-INTERVAL;VALUE=DURATION:PT1H
X-Robots-Tag:noindex
X-PUBLISHED-TTL:PT1H
BEGIN:VTIMEZONE
TZID:America/Sao_Paulo
BEGIN:STANDARD
TZOFFSETFROM:-0300
TZOFFSETTO:-0300
TZNAME:-03
DTSTART:20240101T000000
END:STANDARD
END:VTIMEZONE
BEGIN:VEVENT
DTSTART;VALUE=DATE:20251203
DTEND;VALUE=DATE:20251204
DTSTAMP:20260425T125951
CREATED:20250430T182822Z
LAST-MODIFIED:20250430T182822Z
UID:3806-1764720000-1764806399@dombosco.br
SUMMARY:EI - Formatura Infantil III
DESCRIPTION:Educação Infantil
URL:https://dombosco.br/evento/ei-formatura-infantil-iii/
CATEGORIES:Evento
END:VEVENT
BEGIN:VEVENT
DTSTART;VALUE=DATE:20251205
DTEND;VALUE=DATE:20251206
DTSTAMP:20260425T125951
CREATED:20250430T183527Z
LAST-MODIFIED:20250430T183527Z
UID:3828-1764892800-1764979199@dombosco.br
SUMMARY:EFI - Cantata de Natal
DESCRIPTION:Ensino Fundamental Anos Iniciais
URL:https://dombosco.br/evento/efi-cantata-de-natal/
CATEGORIES:Evento
END:VEVENT
BEGIN:VEVENT
DTSTART;VALUE=DATE:20251208
DTEND;VALUE=DATE:20251209
DTSTAMP:20260425T125951
CREATED:20250430T183750Z
LAST-MODIFIED:20250430T183750Z
UID:3836-1765152000-1765238399@dombosco.br
SUMMARY:EI - Cantata de Natal
DESCRIPTION:Educação Infantil
URL:https://dombosco.br/evento/ei-cantata-de-natal/
CATEGORIES:Evento
END:VEVENT
BEGIN:VEVENT
DTSTART;VALUE=DATE:20251209
DTEND;VALUE=DATE:20251210
DTSTAMP:20260425T125951
CREATED:20250430T183955Z
LAST-MODIFIED:20250430T183955Z
UID:3842-1765238400-1765324799@dombosco.br
SUMMARY:EFI - Pizzada 5º anos
DESCRIPTION:Ensino Fundamental Anos Iniciais
URL:https://dombosco.br/evento/efi-pizzada-5o-anos/
CATEGORIES:Evento
END:VEVENT
BEGIN:VEVENT
DTSTART;VALUE=DATE:20251210
DTEND;VALUE=DATE:20251211
DTSTAMP:20260425T125951
CREATED:20250430T184108Z
LAST-MODIFIED:20250430T184108Z
UID:3846-1765324800-1765411199@dombosco.br
SUMMARY:EFII - Formatura 9º anos
DESCRIPTION:Ensino Fundamental Anos Finais
URL:https://dombosco.br/evento/efii-formatura-9o-anos/
CATEGORIES:Evento
END:VEVENT
BEGIN:VEVENT
DTSTART;VALUE=DATE:20251211
DTEND;VALUE=DATE:20251212
DTSTAMP:20260425T125951
CREATED:20250430T184311Z
LAST-MODIFIED:20250430T184311Z
UID:3852-1765411200-1765497599@dombosco.br
SUMMARY:EM - Formatura 3º anos
DESCRIPTION:Ensino Médio
URL:https://dombosco.br/evento/em-formatura-3o-anos/
CATEGORIES:Evento
END:VEVENT
BEGIN:VEVENT
DTSTART;VALUE=DATE:20251212
DTEND;VALUE=DATE:20251213
DTSTAMP:20260425T125951
CREATED:20250430T184556Z
LAST-MODIFIED:20250430T184556Z
UID:3860-1765497600-1765583999@dombosco.br
SUMMARY:ET - Formatura
DESCRIPTION:Ensino Técnico
URL:https://dombosco.br/evento/et-formatura/
CATEGORIES:Evento
END:VEVENT
END:VCALENDAR