
BEGIN:VCALENDAR
VERSION:2.0
PRODID:-//Dom Bosco Americana - ECPv6.15.16//NONSGML v1.0//EN
CALSCALE:GREGORIAN
METHOD:PUBLISH
X-ORIGINAL-URL:https://dombosco.br
X-WR-CALDESC:Eventos para Dom Bosco Americana
REFRESH-INTERVAL;VALUE=DURATION:PT1H
X-Robots-Tag:noindex
X-PUBLISHED-TTL:PT1H
BEGIN:VTIMEZONE
TZID:America/Sao_Paulo
BEGIN:STANDARD
TZOFFSETFROM:-0300
TZOFFSETTO:-0300
TZNAME:-03
DTSTART:20240101T000000
END:STANDARD
END:VTIMEZONE
BEGIN:VEVENT
DTSTART;VALUE=DATE:20250604
DTEND;VALUE=DATE:20250605
DTSTAMP:20260425T215033
CREATED:20250327T141920Z
LAST-MODIFIED:20250327T141920Z
UID:2447-1748995200-1749081599@dombosco.br
SUMMARY:Pastoral - 6º C - Manhã da Turma
DESCRIPTION:
URL:https://dombosco.br/evento/pastoral-6o-c-manha-da-turma/
CATEGORIES:Evento
END:VEVENT
BEGIN:VEVENT
DTSTART;VALUE=DATE:20250605
DTEND;VALUE=DATE:20250606
DTSTAMP:20260425T215033
CREATED:20250327T142522Z
LAST-MODIFIED:20250327T142522Z
UID:2451-1749081600-1749167999@dombosco.br
SUMMARY:Dia Mundial do Meio Ambiente
DESCRIPTION:
URL:https://dombosco.br/evento/dia-mundial-do-meio-ambiente/
CATEGORIES:Evento
END:VEVENT
BEGIN:VEVENT
DTSTART;VALUE=DATE:20250606
DTEND;VALUE=DATE:20250607
DTSTAMP:20260425T215033
CREATED:20250327T143222Z
LAST-MODIFIED:20250327T143222Z
UID:2457-1749168000-1749254399@dombosco.br
SUMMARY:EM - Ensaio Geral Festa Junina
DESCRIPTION:
URL:https://dombosco.br/evento/em-ensaio-geral-festa-junina/
CATEGORIES:Evento
END:VEVENT
BEGIN:VEVENT
DTSTART;TZID=America/Sao_Paulo:20250607T083000
DTEND;TZID=America/Sao_Paulo:20250607T190000
DTSTAMP:20260425T215033
CREATED:20250223T134926Z
LAST-MODIFIED:20250327T141131Z
UID:1723-1749285000-1749322800@dombosco.br
SUMMARY:Festa Junina
DESCRIPTION:
URL:https://dombosco.br/evento/festa-junina/
CATEGORIES:Evento
END:VEVENT
BEGIN:VEVENT
DTSTART;VALUE=DATE:20250618
DTEND;VALUE=DATE:20250619
DTSTAMP:20260425T215033
CREATED:20250327T150815Z
LAST-MODIFIED:20250327T150815Z
UID:2505-1750204800-1750291199@dombosco.br
SUMMARY:Formatura do PROERD
DESCRIPTION:5º anos – Ensino Fundamental Anos Iniciais \n7º anos –  Ensino Fundamental Anos Finais
URL:https://dombosco.br/evento/formatura-do-proerd/
CATEGORIES:Evento
END:VEVENT
BEGIN:VEVENT
DTSTART;TZID=America/Sao_Paulo:20250624T080000
DTEND;TZID=America/Sao_Paulo:20250624T170000
DTSTAMP:20260425T215033
CREATED:20250327T151534Z
LAST-MODIFIED:20250327T151534Z
UID:2516-1750752000-1750784400@dombosco.br
SUMMARY:São João
DESCRIPTION:
URL:https://dombosco.br/evento/sao-joao/
CATEGORIES:Evento
END:VEVENT
BEGIN:VEVENT
DTSTART;TZID=America/Sao_Paulo:20250630T073000
DTEND;TZID=America/Sao_Paulo:20250704T170000
DTSTAMP:20260425T215033
CREATED:20250327T153425Z
LAST-MODIFIED:20250327T153425Z
UID:2547-1751268600-1751648400@dombosco.br
SUMMARY:EI e EFI - Colônia de Férias
DESCRIPTION:Educação Infantil \nEnsino Fundamental Anos Iniciais
URL:https://dombosco.br/evento/ei-e-efi-colonia-de-ferias/
CATEGORIES:Evento
END:VEVENT
END:VCALENDAR