
BEGIN:VCALENDAR
VERSION:2.0
PRODID:-//Dom Bosco Americana - ECPv6.15.16//NONSGML v1.0//EN
CALSCALE:GREGORIAN
METHOD:PUBLISH
X-WR-CALNAME:Dom Bosco Americana
X-ORIGINAL-URL:https://dombosco.br
X-WR-CALDESC:Eventos para Dom Bosco Americana
REFRESH-INTERVAL;VALUE=DURATION:PT1H
X-Robots-Tag:noindex
X-PUBLISHED-TTL:PT1H
BEGIN:VTIMEZONE
TZID:America/Sao_Paulo
BEGIN:STANDARD
TZOFFSETFROM:-0300
TZOFFSETTO:-0300
TZNAME:-03
DTSTART:20240101T000000
END:STANDARD
END:VTIMEZONE
BEGIN:VEVENT
DTSTART;VALUE=DATE:20250509
DTEND;VALUE=DATE:20250510
DTSTAMP:20260425T231400
CREATED:20250326T195416Z
LAST-MODIFIED:20250326T195416Z
UID:2333-1746748800-1746835199@dombosco.br
SUMMARY:EI - Homenagem ao Dia das Mães
DESCRIPTION:Educação Infantil
URL:https://dombosco.br/evento/ei-homenagem-ao-dia-das-maes/
CATEGORIES:Evento
END:VEVENT
BEGIN:VEVENT
DTSTART;VALUE=DATE:20250510
DTEND;VALUE=DATE:20250511
DTSTAMP:20260425T231400
CREATED:20250326T195621Z
LAST-MODIFIED:20250327T111226Z
UID:2341-1746835200-1746921599@dombosco.br
SUMMARY:Atividade Mães e Filhos
DESCRIPTION:
URL:https://dombosco.br/evento/atividade-maes-e-filhos/
CATEGORIES:Evento
END:VEVENT
BEGIN:VEVENT
DTSTART;VALUE=DATE:20250511
DTEND;VALUE=DATE:20250512
DTSTAMP:20260425T231400
CREATED:20250223T134727Z
LAST-MODIFIED:20250327T111234Z
UID:1721-1746921600-1747007999@dombosco.br
SUMMARY:Dia das Mães
DESCRIPTION:
URL:https://dombosco.br/evento/dia-das-maes/
CATEGORIES:Evento
END:VEVENT
BEGIN:VEVENT
DTSTART;VALUE=DATE:20250516
DTEND;VALUE=DATE:20250517
DTSTAMP:20260425T231400
CREATED:20250327T124401Z
LAST-MODIFIED:20250327T124401Z
UID:2383-1747353600-1747439999@dombosco.br
SUMMARY:Pastoral - Dia da Turma (9º anos)
DESCRIPTION:Ensino Fundamental Anos Finais
URL:https://dombosco.br/evento/pastoral-dia-da-turma-9o-anos/
CATEGORIES:Evento
END:VEVENT
BEGIN:VEVENT
DTSTART;VALUE=DATE:20250523
DTEND;VALUE=DATE:20250524
DTSTAMP:20260425T231400
CREATED:20250327T130214Z
LAST-MODIFIED:20250327T130214Z
UID:2427-1747958400-1748044799@dombosco.br
SUMMARY:Pastoral - Festividades de Nossa Senhora Auxiliadora
DESCRIPTION:
URL:https://dombosco.br/evento/pastoral-festividades-de-nossa-senhora-auxiliadora/
CATEGORIES:Evento
END:VEVENT
BEGIN:VEVENT
DTSTART;VALUE=DATE:20250528
DTEND;VALUE=DATE:20250529
DTSTAMP:20260425T231400
CREATED:20250327T130523Z
LAST-MODIFIED:20250327T130523Z
UID:2435-1748390400-1748476799@dombosco.br
SUMMARY:Pastoral - 6º A - Manhã da Turma
DESCRIPTION:
URL:https://dombosco.br/evento/pastoral-6o-a-manha-da-turma/
CATEGORIES:Evento
END:VEVENT
BEGIN:VEVENT
DTSTART;VALUE=DATE:20250530
DTEND;VALUE=DATE:20250531
DTSTAMP:20260425T231400
CREATED:20250327T130824Z
LAST-MODIFIED:20250327T130824Z
UID:2443-1748563200-1748649599@dombosco.br
SUMMARY:Pastoral - 6º B - Manhã da Turma
DESCRIPTION:
URL:https://dombosco.br/evento/pastoral-6o-b-manha-da-turma/
CATEGORIES:Evento
END:VEVENT
END:VCALENDAR