
BEGIN:VCALENDAR
VERSION:2.0
PRODID:-//Dom Bosco Americana - ECPv6.15.16//NONSGML v1.0//EN
CALSCALE:GREGORIAN
METHOD:PUBLISH
X-ORIGINAL-URL:https://dombosco.br
X-WR-CALDESC:Eventos para Dom Bosco Americana
REFRESH-INTERVAL;VALUE=DURATION:PT1H
X-Robots-Tag:noindex
X-PUBLISHED-TTL:PT1H
BEGIN:VTIMEZONE
TZID:America/Sao_Paulo
BEGIN:STANDARD
TZOFFSETFROM:-0300
TZOFFSETTO:-0300
TZNAME:-03
DTSTART:20240101T000000
END:STANDARD
END:VTIMEZONE
BEGIN:VEVENT
DTSTART;VALUE=DATE:20250405
DTEND;VALUE=DATE:20250406
DTSTAMP:20260426T005141
CREATED:20250325T183601Z
LAST-MODIFIED:20250325T183601Z
UID:2228-1743811200-1743897599@dombosco.br
SUMMARY:Dia Nacional do Combate ao Bullying
DESCRIPTION:
URL:https://dombosco.br/evento/dia-nacional-do-combate-ao-bullying/
CATEGORIES:Evento
END:VEVENT
BEGIN:VEVENT
DTSTART;VALUE=DATE:20250407
DTEND;VALUE=DATE:20250408
DTSTAMP:20260426T005141
CREATED:20250325T184641Z
LAST-MODIFIED:20250325T184641Z
UID:2247-1743984000-1744070399@dombosco.br
SUMMARY:Pastoral (EM) - Semana de Confissões
DESCRIPTION:
URL:https://dombosco.br/evento/pastoral-em-semana-de-confissoes/
CATEGORIES:Evento
END:VEVENT
BEGIN:VEVENT
DTSTART;VALUE=DATE:20250411
DTEND;VALUE=DATE:20250412
DTSTAMP:20260426T005141
CREATED:20250325T200624Z
LAST-MODIFIED:20250325T200624Z
UID:2263-1744329600-1744415999@dombosco.br
SUMMARY:EI | EFI - Pastoral - Bênção dos Ramos
DESCRIPTION:Educação Infantil e Fundamental Anos Iniciais
URL:https://dombosco.br/evento/ei-efi-pastoral-bencao-dos-ramos/
CATEGORIES:Evento
END:VEVENT
BEGIN:VEVENT
DTSTART;VALUE=DATE:20250411
DTEND;VALUE=DATE:20250412
DTSTAMP:20260426T005141
CREATED:20250325T200710Z
LAST-MODIFIED:20250325T200710Z
UID:2265-1744329600-1744415999@dombosco.br
SUMMARY:EFII - Pastoral - Sextou Salesiano 7º anos
DESCRIPTION:
URL:https://dombosco.br/evento/efii-pastoral-sextou-salesiano-7o-anos/
CATEGORIES:Evento
END:VEVENT
BEGIN:VEVENT
DTSTART;TZID=America/Sao_Paulo:20250412T080000
DTEND;TZID=America/Sao_Paulo:20250412T190000
DTSTAMP:20260426T005141
CREATED:20250326T192133Z
LAST-MODIFIED:20250326T192155Z
UID:2275-1744444800-1744484400@dombosco.br
SUMMARY:TEDEX
DESCRIPTION:
URL:https://dombosco.br/evento/tedex/
CATEGORIES:Evento
END:VEVENT
BEGIN:VEVENT
DTSTART;VALUE=DATE:20250422
DTEND;VALUE=DATE:20250423
DTSTAMP:20260426T005141
CREATED:20250326T194137Z
LAST-MODIFIED:20250326T194156Z
UID:2303-1745280000-1745366399@dombosco.br
SUMMARY:ET - Semana de Empregabilidade
DESCRIPTION:
URL:https://dombosco.br/evento/et-semana-de-empregabilidade-2/
CATEGORIES:Evento
END:VEVENT
BEGIN:VEVENT
DTSTART;VALUE=DATE:20250423
DTEND;VALUE=DATE:20250424
DTSTAMP:20260426T005141
CREATED:20250326T194148Z
LAST-MODIFIED:20250326T194148Z
UID:2302-1745366400-1745452799@dombosco.br
SUMMARY:ET - Semana de Empregabilidade
DESCRIPTION:
URL:https://dombosco.br/evento/et-semana-de-empregabilidade-3/
CATEGORIES:Evento
END:VEVENT
BEGIN:VEVENT
DTSTART;VALUE=DATE:20250424
DTEND;VALUE=DATE:20250425
DTSTAMP:20260426T005141
CREATED:20250326T193246Z
LAST-MODIFIED:20250326T194206Z
UID:2290-1745452800-1745539199@dombosco.br
SUMMARY:ET - Semana de Empregabilidade
DESCRIPTION:
URL:https://dombosco.br/evento/et-semana-de-empregabilidade/
CATEGORIES:Evento
END:VEVENT
BEGIN:VEVENT
DTSTART;TZID=America/Sao_Paulo:20250425T080000
DTEND;TZID=America/Sao_Paulo:20250425T170000
DTSTAMP:20260426T005141
CREATED:20250222T193131Z
LAST-MODIFIED:20250223T134828Z
UID:1625-1745568000-1745600400@dombosco.br
SUMMARY:Festa Artística e Literária
DESCRIPTION:
URL:https://dombosco.br/evento/festa-artistica-e-literaria/
CATEGORIES:Evento
END:VEVENT
END:VCALENDAR