
BEGIN:VCALENDAR
VERSION:2.0
PRODID:-//Dom Bosco Americana - ECPv6.15.16//NONSGML v1.0//EN
CALSCALE:GREGORIAN
METHOD:PUBLISH
X-ORIGINAL-URL:https://dombosco.br
X-WR-CALDESC:Eventos para Dom Bosco Americana
REFRESH-INTERVAL;VALUE=DURATION:PT1H
X-Robots-Tag:noindex
X-PUBLISHED-TTL:PT1H
BEGIN:VTIMEZONE
TZID:America/Sao_Paulo
BEGIN:STANDARD
TZOFFSETFROM:-0300
TZOFFSETTO:-0300
TZNAME:-03
DTSTART:20240101T000000
END:STANDARD
END:VTIMEZONE
BEGIN:VEVENT
DTSTART;VALUE=DATE:20251007
DTEND;VALUE=DATE:20251008
DTSTAMP:20260425T185404
CREATED:20250429T140810Z
LAST-MODIFIED:20250429T140810Z
UID:3526-1759795200-1759881599@dombosco.br
SUMMARY:ET - Instrumento Avaliativo 2 2/S - 1º ano
DESCRIPTION:Ensino Técnico
URL:https://dombosco.br/evento/et-instrumento-avaliativo-2-2-s-1o-ano/
CATEGORIES:Avaliações
END:VEVENT
BEGIN:VEVENT
DTSTART;VALUE=DATE:20251008
DTEND;VALUE=DATE:20251009
DTSTAMP:20260425T185404
CREATED:20250429T140844Z
LAST-MODIFIED:20250429T140844Z
UID:3528-1759881600-1759967999@dombosco.br
SUMMARY:ET - Instrumento Avaliativo 2 2/S - 1º ano
DESCRIPTION:Ensino Técnico
URL:https://dombosco.br/evento/et-instrumento-avaliativo-2-2-s-1o-ano-2/
CATEGORIES:Avaliações
END:VEVENT
BEGIN:VEVENT
DTSTART;VALUE=DATE:20251009
DTEND;VALUE=DATE:20251010
DTSTAMP:20260425T185404
CREATED:20250429T140914Z
LAST-MODIFIED:20250429T140914Z
UID:3530-1759968000-1760054399@dombosco.br
SUMMARY:ET - Instrumento Avaliativo 2 2/S - 1º ano
DESCRIPTION:Ensino Técnico
URL:https://dombosco.br/evento/et-instrumento-avaliativo-2-2-s-1o-ano-3/
CATEGORIES:Avaliações
END:VEVENT
BEGIN:VEVENT
DTSTART;VALUE=DATE:20251010
DTEND;VALUE=DATE:20251011
DTSTAMP:20260425T185404
CREATED:20250429T141023Z
LAST-MODIFIED:20250429T141023Z
UID:3534-1760054400-1760140799@dombosco.br
SUMMARY:ET - Instrumento Avaliativo 2 2/S - 1º ano
DESCRIPTION:Ensino Técnico
URL:https://dombosco.br/evento/et-instrumento-avaliativo-2-2-s-1o-ano-4/
CATEGORIES:Avaliações
END:VEVENT
BEGIN:VEVENT
DTSTART;VALUE=DATE:20251011
DTEND;VALUE=DATE:20251012
DTSTAMP:20260425T185404
CREATED:20250429T141058Z
LAST-MODIFIED:20250429T141058Z
UID:3536-1760140800-1760227199@dombosco.br
SUMMARY:EM - Prova Prodígios Salesianos
DESCRIPTION:
URL:https://dombosco.br/evento/em-prova-prodigios-salesianos/
CATEGORIES:Avaliações
END:VEVENT
BEGIN:VEVENT
DTSTART;VALUE=DATE:20251013
DTEND;VALUE=DATE:20251014
DTSTAMP:20260425T185404
CREATED:20250429T141324Z
LAST-MODIFIED:20250429T141324Z
UID:3542-1760313600-1760399999@dombosco.br
SUMMARY:EM - Avaliação PD
DESCRIPTION:Ensino Médio
URL:https://dombosco.br/evento/em-avaliacao-pd-7/
CATEGORIES:Avaliações
END:VEVENT
BEGIN:VEVENT
DTSTART;VALUE=DATE:20251014
DTEND;VALUE=DATE:20251015
DTSTAMP:20260425T185404
CREATED:20250429T141350Z
LAST-MODIFIED:20250429T141350Z
UID:3544-1760400000-1760486399@dombosco.br
SUMMARY:EM - Avaliação PD
DESCRIPTION:Ensino Médio
URL:https://dombosco.br/evento/em-avaliacao-pd-8/
CATEGORIES:Avaliações
END:VEVENT
BEGIN:VEVENT
DTSTART;VALUE=DATE:20251014
DTEND;VALUE=DATE:20251015
DTSTAMP:20260425T185404
CREATED:20250429T141432Z
LAST-MODIFIED:20250429T141432Z
UID:3546-1760400000-1760486399@dombosco.br
SUMMARY:ET - Instrumento Avaliativo 2 2/S - 1º ano
DESCRIPTION:Ensino Técnico
URL:https://dombosco.br/evento/et-instrumento-avaliativo-2-2-s-1o-ano-5/
CATEGORIES:Avaliações
END:VEVENT
BEGIN:VEVENT
DTSTART;VALUE=DATE:20251016
DTEND;VALUE=DATE:20251017
DTSTAMP:20260425T185404
CREATED:20250429T141632Z
LAST-MODIFIED:20250429T141632Z
UID:3550-1760572800-1760659199@dombosco.br
SUMMARY:EM - Avaliação PD
DESCRIPTION:Ensino Médio
URL:https://dombosco.br/evento/em-avaliacao-pd-9/
CATEGORIES:Avaliações
END:VEVENT
BEGIN:VEVENT
DTSTART;VALUE=DATE:20251021
DTEND;VALUE=DATE:20251022
DTSTAMP:20260425T185404
CREATED:20250429T142008Z
LAST-MODIFIED:20250429T142008Z
UID:3558-1761004800-1761091199@dombosco.br
SUMMARY:EM - Avaliação PD
DESCRIPTION:Ensino Médio
URL:https://dombosco.br/evento/em-avaliacao-pd-10/
CATEGORIES:Avaliações
END:VEVENT
BEGIN:VEVENT
DTSTART;VALUE=DATE:20251022
DTEND;VALUE=DATE:20251023
DTSTAMP:20260425T185404
CREATED:20250429T142256Z
LAST-MODIFIED:20250429T142256Z
UID:3562-1761091200-1761177599@dombosco.br
SUMMARY:EM - Avaliação PD
DESCRIPTION:Ensino Médio
URL:https://dombosco.br/evento/em-avaliacao-pd-11/
CATEGORIES:Avaliações
END:VEVENT
BEGIN:VEVENT
DTSTART;VALUE=DATE:20251023
DTEND;VALUE=DATE:20251024
DTSTAMP:20260425T185404
CREATED:20250429T142402Z
LAST-MODIFIED:20250429T142402Z
UID:3567-1761177600-1761263999@dombosco.br
SUMMARY:EM - Avaliação PD
DESCRIPTION:Ensino Médio
URL:https://dombosco.br/evento/em-avaliacao-pd-12/
CATEGORIES:Avaliações
END:VEVENT
BEGIN:VEVENT
DTSTART;VALUE=DATE:20251027
DTEND;VALUE=DATE:20251028
DTSTAMP:20260425T185404
CREATED:20250429T143153Z
LAST-MODIFIED:20250429T143153Z
UID:3583-1761523200-1761609599@dombosco.br
SUMMARY:EFII - 9º anos: Avaliação Sistemática SAS
DESCRIPTION:Ensino Fundamental Anos Finais
URL:https://dombosco.br/evento/efii-9o-anos-avaliacao-sistematica-sas-2/
CATEGORIES:Avaliações
END:VEVENT
BEGIN:VEVENT
DTSTART;VALUE=DATE:20251027
DTEND;VALUE=DATE:20251028
DTSTAMP:20260425T185404
CREATED:20250429T143315Z
LAST-MODIFIED:20250429T143315Z
UID:3587-1761523200-1761609599@dombosco.br
SUMMARY:EM - 2ª Chamada Simulado 3º anos
DESCRIPTION:Ensino Médio
URL:https://dombosco.br/evento/em-2a-chamada-simulado-3o-anos/
CATEGORIES:Avaliações
END:VEVENT
BEGIN:VEVENT
DTSTART;VALUE=DATE:20251027
DTEND;VALUE=DATE:20251028
DTSTAMP:20260425T185404
CREATED:20250429T143532Z
LAST-MODIFIED:20250429T143532Z
UID:3591-1761523200-1761609599@dombosco.br
SUMMARY:ET - Recuperação Contínua Instrumento Avaliativo 2 2/S - 1º ano
DESCRIPTION:Ensino Técnico
URL:https://dombosco.br/evento/et-recuperacao-continua-instrumento-avaliativo-2-2-s-1o-ano/
CATEGORIES:Avaliações
END:VEVENT
BEGIN:VEVENT
DTSTART;VALUE=DATE:20251028
DTEND;VALUE=DATE:20251029
DTSTAMP:20260425T185404
CREATED:20250429T143701Z
LAST-MODIFIED:20250429T143701Z
UID:3593-1761609600-1761695999@dombosco.br
SUMMARY:EM - Simulado 1º e 2º Anos (Avaliação Sistemática SAS)
DESCRIPTION:Ensino Médio
URL:https://dombosco.br/evento/em-simulado-1o-e-2o-anos-avaliacao-sistematica-sas/
CATEGORIES:Avaliações
END:VEVENT
BEGIN:VEVENT
DTSTART;VALUE=DATE:20251028
DTEND;VALUE=DATE:20251029
DTSTAMP:20260425T185404
CREATED:20250429T143801Z
LAST-MODIFIED:20250429T143801Z
UID:3597-1761609600-1761695999@dombosco.br
SUMMARY:ET - Recuperação Contínua Instrumento Avaliativo 2 2/S - 1º ano
DESCRIPTION:Ensino Técnico
URL:https://dombosco.br/evento/et-recuperacao-continua-instrumento-avaliativo-2-2-s-1o-ano-2/
CATEGORIES:Avaliações
END:VEVENT
BEGIN:VEVENT
DTSTART;VALUE=DATE:20251029
DTEND;VALUE=DATE:20251030
DTSTAMP:20260425T185404
CREATED:20250429T143956Z
LAST-MODIFIED:20250429T143956Z
UID:3603-1761696000-1761782399@dombosco.br
SUMMARY:ET - Recuperação Contínua Instrumento Avaliativo 2 2/S - 1º ano
DESCRIPTION:Ensino Técnico
URL:https://dombosco.br/evento/et-recuperacao-continua-instrumento-avaliativo-2-2-s-1o-ano-3/
CATEGORIES:Avaliações
END:VEVENT
BEGIN:VEVENT
DTSTART;VALUE=DATE:20251030
DTEND;VALUE=DATE:20251031
DTSTAMP:20260425T185404
CREATED:20250429T144235Z
LAST-MODIFIED:20250429T144235Z
UID:3609-1761782400-1761868799@dombosco.br
SUMMARY:ET - Recuperação Contínua Instrumento Avaliativo 2 2/S - 1º ano
DESCRIPTION:Ensino Técnico
URL:https://dombosco.br/evento/et-recuperacao-continua-instrumento-avaliativo-2-2-s-1o-ano-4/
CATEGORIES:Avaliações
END:VEVENT
BEGIN:VEVENT
DTSTART;VALUE=DATE:20251031
DTEND;VALUE=DATE:20251101
DTSTAMP:20260425T185404
CREATED:20250429T144345Z
LAST-MODIFIED:20250429T144345Z
UID:3611-1761868800-1761955199@dombosco.br
SUMMARY:EFII - Simulado 3º Trimestre
DESCRIPTION:Ensino Fundamental Anos Finais
URL:https://dombosco.br/evento/efii-simulado-3o-trimestre/
CATEGORIES:Avaliações
END:VEVENT
END:VCALENDAR