
BEGIN:VCALENDAR
VERSION:2.0
PRODID:-//Dom Bosco Americana - ECPv6.15.16//NONSGML v1.0//EN
CALSCALE:GREGORIAN
METHOD:PUBLISH
X-ORIGINAL-URL:https://dombosco.br
X-WR-CALDESC:Eventos para Dom Bosco Americana
REFRESH-INTERVAL;VALUE=DURATION:PT1H
X-Robots-Tag:noindex
X-PUBLISHED-TTL:PT1H
BEGIN:VTIMEZONE
TZID:America/Sao_Paulo
BEGIN:STANDARD
TZOFFSETFROM:-0300
TZOFFSETTO:-0300
TZNAME:-03
DTSTART:20240101T000000
END:STANDARD
END:VTIMEZONE
BEGIN:VEVENT
DTSTART;VALUE=DATE:20250901
DTEND;VALUE=DATE:20250902
DTSTAMP:20260425T202633
CREATED:20250423T153041Z
LAST-MODIFIED:20250423T153041Z
UID:3172-1756684800-1756771199@dombosco.br
SUMMARY:EFII - Recuperação Paralela - 2º Trimestre
DESCRIPTION:Ensino Fundamental Anos Finais
URL:https://dombosco.br/evento/efii-recuperacao-paralela-2o-trimestre-5/
CATEGORIES:Avaliações
END:VEVENT
BEGIN:VEVENT
DTSTART;VALUE=DATE:20250901
DTEND;VALUE=DATE:20250902
DTSTAMP:20260425T202633
CREATED:20250423T153153Z
LAST-MODIFIED:20250423T153153Z
UID:3176-1756684800-1756771199@dombosco.br
SUMMARY:EM - Recuperação Paralela - 2º Trimestre
DESCRIPTION:Ensino Médio
URL:https://dombosco.br/evento/em-recuperacao-paralela-2o-trimestre/
CATEGORIES:Avaliações
END:VEVENT
BEGIN:VEVENT
DTSTART;VALUE=DATE:20250901
DTEND;VALUE=DATE:20250902
DTSTAMP:20260425T202633
CREATED:20250423T153233Z
LAST-MODIFIED:20250423T154146Z
UID:3178-1756684800-1756771199@dombosco.br
SUMMARY:ET - Instrumento Avaliativo 1 2/S
DESCRIPTION:Ensino Técnico
URL:https://dombosco.br/evento/et-instrumento-avaliativo-2-2-s/
CATEGORIES:Avaliações
END:VEVENT
BEGIN:VEVENT
DTSTART;VALUE=DATE:20250902
DTEND;VALUE=DATE:20250903
DTSTAMP:20260425T202633
CREATED:20250423T153112Z
LAST-MODIFIED:20250423T153112Z
UID:3173-1756771200-1756857599@dombosco.br
SUMMARY:EFII - Recuperação Paralela - 2º Trimestre
DESCRIPTION:Ensino Fundamental Anos Finais
URL:https://dombosco.br/evento/efii-recuperacao-paralela-2o-trimestre-6/
CATEGORIES:Avaliações
END:VEVENT
BEGIN:VEVENT
DTSTART;VALUE=DATE:20250902
DTEND;VALUE=DATE:20250903
DTSTAMP:20260425T202633
CREATED:20250423T153323Z
LAST-MODIFIED:20250423T153323Z
UID:3180-1756771200-1756857599@dombosco.br
SUMMARY:EFI - Recuperação - 2º Trimestre
DESCRIPTION:Ensino Fundamental Anos Iniciais
URL:https://dombosco.br/evento/efi-recuperacao-2o-trimestre/
CATEGORIES:Avaliações
END:VEVENT
BEGIN:VEVENT
DTSTART;VALUE=DATE:20250902
DTEND;VALUE=DATE:20250903
DTSTAMP:20260425T202633
CREATED:20250423T153445Z
LAST-MODIFIED:20250423T154109Z
UID:3184-1756771200-1756857599@dombosco.br
SUMMARY:ET - Instrumento Avaliativo 1 2/S
DESCRIPTION:Ensino Técnico
URL:https://dombosco.br/evento/et-instrumento-avaliativo-2-2-s-2/
CATEGORIES:Avaliações
END:VEVENT
BEGIN:VEVENT
DTSTART;VALUE=DATE:20250903
DTEND;VALUE=DATE:20250904
DTSTAMP:20260425T202633
CREATED:20250423T153523Z
LAST-MODIFIED:20250423T153523Z
UID:3186-1756857600-1756943999@dombosco.br
SUMMARY:EFI - Recuperação - 2º Trimestre
DESCRIPTION:Ensino Fundamental Anos Iniciais
URL:https://dombosco.br/evento/efi-recuperacao-2o-trimestre-2/
CATEGORIES:Avaliações
END:VEVENT
BEGIN:VEVENT
DTSTART;VALUE=DATE:20250903
DTEND;VALUE=DATE:20250904
DTSTAMP:20260425T202633
CREATED:20250423T153608Z
LAST-MODIFIED:20250423T153937Z
UID:3188-1756857600-1756943999@dombosco.br
SUMMARY:EFII - Recuperação Paralela - 2º Trimestre
DESCRIPTION:Ensino Fundamental Anos Finais
URL:https://dombosco.br/evento/efii-recuperacao-paralela-2o-trimestre-7/
CATEGORIES:Avaliações
END:VEVENT
BEGIN:VEVENT
DTSTART;VALUE=DATE:20250903
DTEND;VALUE=DATE:20250904
DTSTAMP:20260425T202633
CREATED:20250423T154013Z
LAST-MODIFIED:20250423T154013Z
UID:3191-1756857600-1756943999@dombosco.br
SUMMARY:EM - Recuperação Paralela - 2º Trimestre
DESCRIPTION:Ensino Médio
URL:https://dombosco.br/evento/em-recuperacao-paralela-2o-trimestre-2/
CATEGORIES:Avaliações
END:VEVENT
BEGIN:VEVENT
DTSTART;VALUE=DATE:20250903
DTEND;VALUE=DATE:20250904
DTSTAMP:20260425T202633
CREATED:20250423T154057Z
LAST-MODIFIED:20250423T154057Z
UID:3193-1756857600-1756943999@dombosco.br
SUMMARY:ET - Instrumento Avaliativo 1 2/S
DESCRIPTION:Ensino Técnico
URL:https://dombosco.br/evento/et-instrumento-avaliativo-1-2-s/
CATEGORIES:Avaliações
END:VEVENT
BEGIN:VEVENT
DTSTART;VALUE=DATE:20250904
DTEND;VALUE=DATE:20250905
DTSTAMP:20260425T202633
CREATED:20250423T160330Z
LAST-MODIFIED:20250423T160330Z
UID:3200-1756944000-1757030399@dombosco.br
SUMMARY:EFI - Recuperação - 2º Trimestre
DESCRIPTION:Ensino Fundamental Anos Iniciais
URL:https://dombosco.br/evento/efi-recuperacao-2o-trimestre-3/
CATEGORIES:Avaliações
END:VEVENT
BEGIN:VEVENT
DTSTART;VALUE=DATE:20250904
DTEND;VALUE=DATE:20250905
DTSTAMP:20260425T202633
CREATED:20250424T193917Z
LAST-MODIFIED:20250424T193917Z
UID:3249-1756944000-1757030399@dombosco.br
SUMMARY:EFII - Recuperação Paralela - 2 º Trimestre
DESCRIPTION:Ensino Fundamental Anos Finais
URL:https://dombosco.br/evento/efii-recuperacao-paralela-2-o-trimestre/
CATEGORIES:Avaliações
END:VEVENT
BEGIN:VEVENT
DTSTART;VALUE=DATE:20250904
DTEND;VALUE=DATE:20250905
DTSTAMP:20260425T202633
CREATED:20250424T194049Z
LAST-MODIFIED:20250424T194049Z
UID:3252-1756944000-1757030399@dombosco.br
SUMMARY:ET - Instrumento Avaliativo 1 2/S
DESCRIPTION:
URL:https://dombosco.br/evento/et-instrumento-avaliativo-1-2-s-2/
CATEGORIES:Avaliações
END:VEVENT
BEGIN:VEVENT
DTSTART;VALUE=DATE:20250905
DTEND;VALUE=DATE:20250906
DTSTAMP:20260425T202633
CREATED:20250424T194220Z
LAST-MODIFIED:20250424T194220Z
UID:3256-1757030400-1757116799@dombosco.br
SUMMARY:EFI – Recuperação – 2º Trimestre
DESCRIPTION:Ensino Fundamental Anos Iniciais
URL:https://dombosco.br/evento/efi-recuperacao-2o-trimestre-4/
CATEGORIES:Avaliações
END:VEVENT
BEGIN:VEVENT
DTSTART;VALUE=DATE:20250905
DTEND;VALUE=DATE:20250906
DTSTAMP:20260425T202633
CREATED:20250424T194303Z
LAST-MODIFIED:20250424T194303Z
UID:3259-1757030400-1757116799@dombosco.br
SUMMARY:EM - Recuperação Paralela - 2º Trimestre
DESCRIPTION:Ensino Médio
URL:https://dombosco.br/evento/em-recuperacao-paralela-2o-trimestre-3/
CATEGORIES:Avaliações
END:VEVENT
BEGIN:VEVENT
DTSTART;VALUE=DATE:20250905
DTEND;VALUE=DATE:20250906
DTSTAMP:20260425T202633
CREATED:20250424T194409Z
LAST-MODIFIED:20250424T194409Z
UID:3263-1757030400-1757116799@dombosco.br
SUMMARY:ET - Instrumento Avaliativo 1 2/S
DESCRIPTION:Ensino Técnico
URL:https://dombosco.br/evento/et-instrumento-avaliativo-1-2-s-3/
CATEGORIES:Avaliações
END:VEVENT
BEGIN:VEVENT
DTSTART;VALUE=DATE:20250908
DTEND;VALUE=DATE:20250909
DTSTAMP:20260425T202633
CREATED:20250424T194756Z
LAST-MODIFIED:20250424T194756Z
UID:3271-1757289600-1757375999@dombosco.br
SUMMARY:EFI – Recuperação – 2º Trimestre
DESCRIPTION:Ensino Fundamental Anos Iniciais
URL:https://dombosco.br/evento/efi-recuperacao-2o-trimestre-5/
CATEGORIES:Avaliações
END:VEVENT
BEGIN:VEVENT
DTSTART;VALUE=DATE:20250908
DTEND;VALUE=DATE:20250909
DTSTAMP:20260425T202633
CREATED:20250424T194823Z
LAST-MODIFIED:20250424T194823Z
UID:3273-1757289600-1757375999@dombosco.br
SUMMARY:EM - Recuperação Paralela - 2º Trimestre
DESCRIPTION:Ensino Médio
URL:https://dombosco.br/evento/em-recuperacao-paralela-2o-trimestre-4/
CATEGORIES:Avaliações
END:VEVENT
BEGIN:VEVENT
DTSTART;VALUE=DATE:20250908
DTEND;VALUE=DATE:20250909
DTSTAMP:20260425T202633
CREATED:20250424T194905Z
LAST-MODIFIED:20250424T194905Z
UID:3275-1757289600-1757375999@dombosco.br
SUMMARY:ET - 2ª Chamada Instrumento Avaliativo 1 2/S
DESCRIPTION:Ensino Técnico
URL:https://dombosco.br/evento/et-2a-chamada-instrumento-avaliativo-1-2-s/
CATEGORIES:Avaliações
END:VEVENT
BEGIN:VEVENT
DTSTART;VALUE=DATE:20250909
DTEND;VALUE=DATE:20250910
DTSTAMP:20260425T202633
CREATED:20250424T195009Z
LAST-MODIFIED:20250424T195009Z
UID:3279-1757376000-1757462399@dombosco.br
SUMMARY:EFI – Recuperação – 2º Trimestre
DESCRIPTION:Ensino Fundamental Anos Iniciais
URL:https://dombosco.br/evento/efi-recuperacao-2o-trimestre-6/
CATEGORIES:Avaliações
END:VEVENT
BEGIN:VEVENT
DTSTART;VALUE=DATE:20250909
DTEND;VALUE=DATE:20250910
DTSTAMP:20260425T202633
CREATED:20250424T195058Z
LAST-MODIFIED:20250424T195058Z
UID:3281-1757376000-1757462399@dombosco.br
SUMMARY:EFII - 2ª Chamada Avaliações Trimestrais
DESCRIPTION:Ensino Fundamental Anos Finais
URL:https://dombosco.br/evento/efii-2a-chamada-avaliacoes-trimestrais/
CATEGORIES:Avaliações
END:VEVENT
BEGIN:VEVENT
DTSTART;VALUE=DATE:20250910
DTEND;VALUE=DATE:20250911
DTSTAMP:20260425T202633
CREATED:20250424T195159Z
LAST-MODIFIED:20250424T195159Z
UID:3285-1757462400-1757548799@dombosco.br
SUMMARY:EFI – Recuperação – 2º Trimestre
DESCRIPTION:Ensino Fundamental Anos Iniciais
URL:https://dombosco.br/evento/efi-recuperacao-2o-trimestre-7/
CATEGORIES:Avaliações
END:VEVENT
BEGIN:VEVENT
DTSTART;VALUE=DATE:20250911
DTEND;VALUE=DATE:20250912
DTSTAMP:20260425T202633
CREATED:20250424T195400Z
LAST-MODIFIED:20250424T195400Z
UID:3291-1757548800-1757635199@dombosco.br
SUMMARY:ET - Recuperação Contínua Instrumento Avaliativo 1 2/S
DESCRIPTION:Ensino Técnico
URL:https://dombosco.br/evento/et-recuperacao-continua-instrumento-avaliativo-1-2-s/
CATEGORIES:Avaliações
END:VEVENT
BEGIN:VEVENT
DTSTART;VALUE=DATE:20250912
DTEND;VALUE=DATE:20250913
DTSTAMP:20260425T202633
CREATED:20250429T121547Z
LAST-MODIFIED:20250429T121547Z
UID:3433-1757635200-1757721599@dombosco.br
SUMMARY:EFI - Recuperação - 2º Trimestre
DESCRIPTION:Ensino Fundamental Anos Iniciais
URL:https://dombosco.br/evento/efi-recuperacao-2o-trimestre-9/
CATEGORIES:Avaliações
END:VEVENT
BEGIN:VEVENT
DTSTART;VALUE=DATE:20250912
DTEND;VALUE=DATE:20250913
DTSTAMP:20260425T202633
CREATED:20250429T121816Z
LAST-MODIFIED:20250429T125437Z
UID:3437-1757635200-1757721599@dombosco.br
SUMMARY:EM - Recuperação Paralela - 2º Trimestre
DESCRIPTION:Ensino Médio
URL:https://dombosco.br/evento/em-reuniao-paralela-2o-trimestre/
CATEGORIES:Avaliações
END:VEVENT
BEGIN:VEVENT
DTSTART;VALUE=DATE:20250912
DTEND;VALUE=DATE:20250913
DTSTAMP:20260425T202633
CREATED:20250429T123943Z
LAST-MODIFIED:20250429T123943Z
UID:3439-1757635200-1757721599@dombosco.br
SUMMARY:ET - Recuperação Contínua Instrumento Avaliativo 1 2/S
DESCRIPTION:Ensino Técnico
URL:https://dombosco.br/evento/et-recuperacao-continua-instrumento-avaliativo-1-2-s-2/
CATEGORIES:Avaliações
END:VEVENT
BEGIN:VEVENT
DTSTART;VALUE=DATE:20250915
DTEND;VALUE=DATE:20250916
DTSTAMP:20260425T202633
CREATED:20250429T124231Z
LAST-MODIFIED:20250429T125432Z
UID:3462-1757894400-1757980799@dombosco.br
SUMMARY:EM - Recuperação Paralela - 2º Trimestre
DESCRIPTION:Ensino Médio
URL:https://dombosco.br/evento/em-reuniao-paralela-2o-trimestre-2/
CATEGORIES:Avaliações
END:VEVENT
BEGIN:VEVENT
DTSTART;VALUE=DATE:20250915
DTEND;VALUE=DATE:20250916
DTSTAMP:20260425T202633
CREATED:20250429T124255Z
LAST-MODIFIED:20250429T124255Z
UID:3464-1757894400-1757980799@dombosco.br
SUMMARY:ET - Recuperação Contínua Instrumento Avaliativo 1 2/S
DESCRIPTION:Ensino Técnico
URL:https://dombosco.br/evento/et-recuperacao-continua-instrumento-avaliativo-1-2-s-3/
CATEGORIES:Avaliações
END:VEVENT
BEGIN:VEVENT
DTSTART;VALUE=DATE:20250916
DTEND;VALUE=DATE:20250917
DTSTAMP:20260425T202633
CREATED:20250429T124405Z
LAST-MODIFIED:20250429T124405Z
UID:3468-1757980800-1758067199@dombosco.br
SUMMARY:ET - Recuperação Contínua Instrumento Avaliativo 1 2/S
DESCRIPTION:Ensino Técnico
URL:https://dombosco.br/evento/et-recuperacao-continua-instrumento-avaliativo-1-2-s-4/
CATEGORIES:Avaliações
END:VEVENT
BEGIN:VEVENT
DTSTART;VALUE=DATE:20250917
DTEND;VALUE=DATE:20250918
DTSTAMP:20260425T202633
CREATED:20250429T124552Z
LAST-MODIFIED:20250429T125532Z
UID:3474-1758067200-1758153599@dombosco.br
SUMMARY:EM - Recuperação Paralela - 2º Trimestre
DESCRIPTION:Ensino Médio
URL:https://dombosco.br/evento/em-reuniao-paralela-2o-trimestre-3/
CATEGORIES:Avaliações
END:VEVENT
END:VCALENDAR