
BEGIN:VCALENDAR
VERSION:2.0
PRODID:-//Dom Bosco Americana - ECPv6.15.16//NONSGML v1.0//EN
CALSCALE:GREGORIAN
METHOD:PUBLISH
X-ORIGINAL-URL:https://dombosco.br
X-WR-CALDESC:Eventos para Dom Bosco Americana
REFRESH-INTERVAL;VALUE=DURATION:PT1H
X-Robots-Tag:noindex
X-PUBLISHED-TTL:PT1H
BEGIN:VTIMEZONE
TZID:America/Sao_Paulo
BEGIN:STANDARD
TZOFFSETFROM:-0300
TZOFFSETTO:-0300
TZNAME:-03
DTSTART:20240101T000000
END:STANDARD
END:VTIMEZONE
BEGIN:VEVENT
DTSTART;VALUE=DATE:20250804
DTEND;VALUE=DATE:20250805
DTSTAMP:20260425T215303
CREATED:20250328T190702Z
LAST-MODIFIED:20250328T190702Z
UID:2637-1754265600-1754351999@dombosco.br
SUMMARY:EM - 2ª Chamada Simulado
DESCRIPTION:Ensino Médio
URL:https://dombosco.br/evento/em-2a-chamada-simulado-2/
CATEGORIES:Avaliações
END:VEVENT
BEGIN:VEVENT
DTSTART;VALUE=DATE:20250806
DTEND;VALUE=DATE:20250807
DTSTAMP:20260425T215303
CREATED:20250328T190815Z
LAST-MODIFIED:20250328T190824Z
UID:2639-1754438400-1754524799@dombosco.br
SUMMARY:EFI - 2ª Chamada Avalições
DESCRIPTION:Ensino Fundamental Anos Iniciais
URL:https://dombosco.br/evento/efi-2a-chamada-avalicoes/
CATEGORIES:Avaliações
END:VEVENT
BEGIN:VEVENT
DTSTART;VALUE=DATE:20250807
DTEND;VALUE=DATE:20250808
DTSTAMP:20260425T215303
CREATED:20250328T190920Z
LAST-MODIFIED:20250328T190920Z
UID:2641-1754524800-1754611199@dombosco.br
SUMMARY:EFII - Simulado 2º Trimestre
DESCRIPTION:Ensino Fundamental Anos Finais
URL:https://dombosco.br/evento/efii-simulado-2o-trimestre/
CATEGORIES:Avaliações
END:VEVENT
BEGIN:VEVENT
DTSTART;VALUE=DATE:20250807
DTEND;VALUE=DATE:20250808
DTSTAMP:20260425T215303
CREATED:20250328T191040Z
LAST-MODIFIED:20250328T191040Z
UID:2643-1754524800-1754611199@dombosco.br
SUMMARY:Pastoral (EFII / EM) - Missa em Homenagem ao Dia dos Pais
DESCRIPTION:
URL:https://dombosco.br/evento/pastoral-efii-em-missa-em-homenagem-ao-dia-dos-pais/
CATEGORIES:Avaliações
END:VEVENT
BEGIN:VEVENT
DTSTART;VALUE=DATE:20250808
DTEND;VALUE=DATE:20250809
DTSTAMP:20260425T215303
CREATED:20250328T191129Z
LAST-MODIFIED:20250328T191129Z
UID:2645-1754611200-1754697599@dombosco.br
SUMMARY:EI - Homenagem aos Pais
DESCRIPTION:Educação Infantil
URL:https://dombosco.br/evento/ei-homenagem-aos-pais/
CATEGORIES:Avaliações
END:VEVENT
BEGIN:VEVENT
DTSTART;VALUE=DATE:20250808
DTEND;VALUE=DATE:20250809
DTSTAMP:20260425T215303
CREATED:20250328T191155Z
LAST-MODIFIED:20250328T191155Z
UID:2647-1754611200-1754697599@dombosco.br
SUMMARY:Pastoral (EFI) - Missa em Homenagem ao Dia dos Pais
DESCRIPTION:
URL:https://dombosco.br/evento/pastoral-efi-missa-em-homenagem-ao-dia-dos-pais/
CATEGORIES:Avaliações
END:VEVENT
BEGIN:VEVENT
DTSTART;VALUE=DATE:20250812
DTEND;VALUE=DATE:20250813
DTSTAMP:20260425T215303
CREATED:20250328T191258Z
LAST-MODIFIED:20250328T191258Z
UID:2649-1754956800-1755043199@dombosco.br
SUMMARY:EFII - 2ª Chamada Simulado
DESCRIPTION:Ensino Fundamental Anos Finais
URL:https://dombosco.br/evento/efii-2a-chamada-simulado/
CATEGORIES:Avaliações
END:VEVENT
BEGIN:VEVENT
DTSTART;VALUE=DATE:20250826
DTEND;VALUE=DATE:20250827
DTSTAMP:20260425T215303
CREATED:20250331T153019Z
LAST-MODIFIED:20250331T153019Z
UID:2671-1756166400-1756252799@dombosco.br
SUMMARY:EFII - Recuperação Paralela - 2º Trimestre
DESCRIPTION:Ensino Fundamental Anos Finais
URL:https://dombosco.br/evento/efii-recuperacao-paralela-2o-trimestre/
CATEGORIES:Avaliações
END:VEVENT
BEGIN:VEVENT
DTSTART;VALUE=DATE:20250827
DTEND;VALUE=DATE:20250828
DTSTAMP:20260425T215303
CREATED:20250331T153111Z
LAST-MODIFIED:20250331T153111Z
UID:2673-1756252800-1756339199@dombosco.br
SUMMARY:EFII - Recuperação Paralela - 2º Trimestre
DESCRIPTION:Ensino Fundamental Anos Finais
URL:https://dombosco.br/evento/efii-recuperacao-paralela-2o-trimestre-2/
CATEGORIES:Avaliações
END:VEVENT
BEGIN:VEVENT
DTSTART;VALUE=DATE:20250828
DTEND;VALUE=DATE:20250829
DTSTAMP:20260425T215303
CREATED:20250331T153242Z
LAST-MODIFIED:20250331T153242Z
UID:2677-1756339200-1756425599@dombosco.br
SUMMARY:EFII - Recuperação Paralela - 2º Trimestre
DESCRIPTION:Ensino Fundamental Anos Finais
URL:https://dombosco.br/evento/efii-recuperacao-paralela-2o-trimestre-3/
CATEGORIES:Avaliações
END:VEVENT
BEGIN:VEVENT
DTSTART;VALUE=DATE:20250828
DTEND;VALUE=DATE:20250829
DTSTAMP:20260425T215303
CREATED:20250331T153338Z
LAST-MODIFIED:20250331T153338Z
UID:2678-1756339200-1756425599@dombosco.br
SUMMARY:EFII - Avaliação Sistemática SAS (9º anos)
DESCRIPTION:Ensino Fundamental Anos Finais
URL:https://dombosco.br/evento/efii-avaliacao-sistematica-sas-9o-anos/
CATEGORIES:Avaliações
END:VEVENT
BEGIN:VEVENT
DTSTART;VALUE=DATE:20250829
DTEND;VALUE=DATE:20250830
DTSTAMP:20260425T215303
CREATED:20250331T153615Z
LAST-MODIFIED:20250331T153615Z
UID:2686-1756425600-1756511999@dombosco.br
SUMMARY:EFII - Recuperação Paralela - 2º Trimestre
DESCRIPTION:Ensino Fundamental Anos Finais
URL:https://dombosco.br/evento/efii-recuperacao-paralela-2o-trimestre-4/
CATEGORIES:Avaliações
END:VEVENT
END:VCALENDAR