
BEGIN:VCALENDAR
VERSION:2.0
PRODID:-//Dom Bosco Americana - ECPv6.15.16//NONSGML v1.0//EN
CALSCALE:GREGORIAN
METHOD:PUBLISH
X-WR-CALNAME:Dom Bosco Americana
X-ORIGINAL-URL:https://dombosco.br
X-WR-CALDESC:Eventos para Dom Bosco Americana
REFRESH-INTERVAL;VALUE=DURATION:PT1H
X-Robots-Tag:noindex
X-PUBLISHED-TTL:PT1H
BEGIN:VTIMEZONE
TZID:America/Sao_Paulo
BEGIN:STANDARD
TZOFFSETFROM:-0300
TZOFFSETTO:-0300
TZNAME:-03
DTSTART:20250101T000000
END:STANDARD
END:VTIMEZONE
BEGIN:VEVENT
DTSTART;VALUE=DATE:20260424
DTEND;VALUE=DATE:20260425
DTSTAMP:20260424T214046
CREATED:20260127T194943Z
LAST-MODIFIED:20260127T194943Z
UID:12711-1776988800-1777075199@dombosco.br
SUMMARY:Biblioteca / EI / EFAI / EFAF - Festa Artística e Literária
DESCRIPTION:
URL:https://dombosco.br/evento/biblioteca-ei-efai-efaf-festa-artistica-e-literaria/
END:VEVENT
BEGIN:VEVENT
DTSTART;VALUE=DATE:20260424
DTEND;VALUE=DATE:20260427
DTSTAMP:20260424T214046
CREATED:20260127T195002Z
LAST-MODIFIED:20260127T195043Z
UID:12713-1776988800-1777247999@dombosco.br
SUMMARY:Pastoral / Inspetoria - Acampa Bosco
DESCRIPTION:
URL:https://dombosco.br/evento/pastoral-inspetoria-acampa-bosco/
END:VEVENT
END:VCALENDAR